BEGIN:VCALENDAR
VERSION:2.0
PRODID:-// - ECPv6.15.20//NONSGML v1.0//EN
CALSCALE:GREGORIAN
METHOD:PUBLISH
X-ORIGINAL-URL:https://www.bayhistorical.com
X-WR-CALDESC:Events for 
REFRESH-INTERVAL;VALUE=DURATION:PT1H
X-Robots-Tag:noindex
X-PUBLISHED-TTL:PT1H
BEGIN:VTIMEZONE
TZID:America/New_York
BEGIN:DAYLIGHT
TZOFFSETFROM:-0500
TZOFFSETTO:-0400
TZNAME:EDT
DTSTART:20250309T070000
END:DAYLIGHT
BEGIN:STANDARD
TZOFFSETFROM:-0400
TZOFFSETTO:-0500
TZNAME:EST
DTSTART:20251102T060000
END:STANDARD
BEGIN:DAYLIGHT
TZOFFSETFROM:-0500
TZOFFSETTO:-0400
TZNAME:EDT
DTSTART:20260308T070000
END:DAYLIGHT
BEGIN:STANDARD
TZOFFSETFROM:-0400
TZOFFSETTO:-0500
TZNAME:EST
DTSTART:20261101T060000
END:STANDARD
BEGIN:DAYLIGHT
TZOFFSETFROM:-0500
TZOFFSETTO:-0400
TZNAME:EDT
DTSTART:20270314T070000
END:DAYLIGHT
BEGIN:STANDARD
TZOFFSETFROM:-0400
TZOFFSETTO:-0500
TZNAME:EST
DTSTART:20271107T060000
END:STANDARD
END:VTIMEZONE
BEGIN:VEVENT
DTSTART;VALUE=DATE:20260705
DTEND;VALUE=DATE:20260706
DTSTAMP:20260422T204609
CREATED:20260316T183720Z
LAST-MODIFIED:20260316T183720Z
UID:8773-1783209600-1783295999@www.bayhistorical.com
SUMMARY:CLOSED FOR HOLIDAY
DESCRIPTION:
URL:https://www.bayhistorical.com/event/closed-for-holiday/
END:VEVENT
BEGIN:VEVENT
DTSTART;TZID=America/New_York:20260712T140000
DTEND;TZID=America/New_York:20260712T163000
DTSTAMP:20260422T204609
CREATED:20260313T191213Z
LAST-MODIFIED:20260327T143422Z
UID:8751-1783864800-1783873800@www.bayhistorical.com
SUMMARY:Rose Hill/Osborn/Cahoon Cabin Open (Lorenzo Carter)
DESCRIPTION:Marge Gulley presents a brief historical discussion on Cleveland’s first prominent settler\, Lorenzo Carter. Highlighting one of our most treasured artifacts and one of Cleveland’s most storied residents.
URL:https://www.bayhistorical.com/event/rose-hill-osborn-cahoon-cabin-open-speaker-tbd-2/
END:VEVENT
BEGIN:VEVENT
DTSTART;TZID=America/New_York:20260719T140000
DTEND;TZID=America/New_York:20260719T163000
DTSTAMP:20260422T204609
CREATED:20260313T192007Z
LAST-MODIFIED:20260313T192007Z
UID:8753-1784469600-1784478600@www.bayhistorical.com
SUMMARY:Rose Hill/Osborn/Cahoon Cabin Open (Speaker: TBD)
DESCRIPTION:
URL:https://www.bayhistorical.com/event/rose-hill-osborn-cahoon-cabin-open-speaker-tbd-4/
END:VEVENT
BEGIN:VEVENT
DTSTART;VALUE=DATE:20260720
DTEND;VALUE=DATE:20260725
DTSTAMP:20260422T204609
CREATED:20260415T130021Z
LAST-MODIFIED:20260416T154247Z
UID:8881-1784505600-1784937599@www.bayhistorical.com
SUMMARY:Pioneer Days
DESCRIPTION:Bay Village Historical Society presents:\nPIONEER DAYS\nJuly 20-24\, 2026\nWINNER of The Ohio Museum Association’s 2025 Best Education/Outreach Award \n \n\n  \nThis award-winning camp invites children entering grades 3 through 6 to travel back in time and enjoy the same crafts\, games\, and adventures experienced by Bay Village’s earliest settlers! This year’s camp will include special activities to celebrate America250. \nThe program will take place 9 a.m. to noon\, July 20-24\, 2026\, at the Bay Village Police Station (drop-off/pick-up) and Cahoon Memorial Park. Campers will engage in candle-making\, pioneer games and cooking\, weaving and crafting\, nature walks\, and so much more! \nREGISTRATION NOW OPEN \n\n\nFollow these steps to register your child. Space is limited so reserve your spot today! \n\nComplete the online registration form. Please submit one form per child. Submitting this online form will hold your child’s spot in the program for 10 days. Payment and signed parental consent form MUST be received within 10 days to secure your child’s spot.\nPrint and sign the parent authorization form. Please complete one form per child. This form must be mailed (along with payment if paying by check) to the Bay Village Historical Society at:\nAttn: Pioneer Days\n440 Bradley Rd.\nBay Village\, OH 44140 \n\nSubmit payment. Cost is $90 if paying online / $85 if paying by check. Online payment available through Venmo (@bayvillagehistoricalsociety). If paying by check\, please make payable to Bay Village Historical Society and mail it in with signed parent authorization form.\n\nPAYMENT AND SIGNED PARENT AUTHORIZATION FORM MUST BE RECEIVED WITHIN 10 DAYS OF ONLINE REGISTRATION IN ORDER TO SECURE YOUR CHILD’S SPOT \nWAITLIST NOTICE: Registrations received after the program reaches capacity will be added to the waitlist. Should spaces become available\, waitlisters will be contacted in the order received. \nCANCELLATION POLICY: Cancellations will only be refunded if the child’s spot can be filled from the waitlist. Any refunds will be subject to a $10 cancellation fee. \nQuestions? Please contact us at bvhsrosehill@gmail.com
URL:https://www.bayhistorical.com/event/pioneer-days-7/
END:VEVENT
BEGIN:VEVENT
DTSTART;TZID=America/New_York:20260726T140000
DTEND;TZID=America/New_York:20260726T163000
DTSTAMP:20260422T204609
CREATED:20260313T191919Z
LAST-MODIFIED:20260313T191919Z
UID:8755-1785074400-1785083400@www.bayhistorical.com
SUMMARY:Rose Hill/Osborn/Cahoon Cabin Open (Speaker: TBD)
DESCRIPTION:
URL:https://www.bayhistorical.com/event/rose-hill-osborn-cahoon-cabin-open-speaker-tbd-3/
END:VEVENT
END:VCALENDAR