BEGIN:VCALENDAR
VERSION:2.0
PRODID:-// - ECPv6.15.20//NONSGML v1.0//EN
CALSCALE:GREGORIAN
METHOD:PUBLISH
X-ORIGINAL-URL:https://www.bayhistorical.com
X-WR-CALDESC:Events for 
REFRESH-INTERVAL;VALUE=DURATION:PT1H
X-Robots-Tag:noindex
X-PUBLISHED-TTL:PT1H
BEGIN:VTIMEZONE
TZID:America/New_York
BEGIN:DAYLIGHT
TZOFFSETFROM:-0500
TZOFFSETTO:-0400
TZNAME:EDT
DTSTART:20230312T070000
END:DAYLIGHT
BEGIN:STANDARD
TZOFFSETFROM:-0400
TZOFFSETTO:-0500
TZNAME:EST
DTSTART:20231105T060000
END:STANDARD
BEGIN:DAYLIGHT
TZOFFSETFROM:-0500
TZOFFSETTO:-0400
TZNAME:EDT
DTSTART:20240310T070000
END:DAYLIGHT
BEGIN:STANDARD
TZOFFSETFROM:-0400
TZOFFSETTO:-0500
TZNAME:EST
DTSTART:20241103T060000
END:STANDARD
BEGIN:DAYLIGHT
TZOFFSETFROM:-0500
TZOFFSETTO:-0400
TZNAME:EDT
DTSTART:20250309T070000
END:DAYLIGHT
BEGIN:STANDARD
TZOFFSETFROM:-0400
TZOFFSETTO:-0500
TZNAME:EST
DTSTART:20251102T060000
END:STANDARD
END:VTIMEZONE
BEGIN:VEVENT
DTSTART;TZID=America/New_York:20241201T020000
DTEND;TZID=America/New_York:20241201T170000
DTSTAMP:20260421T194602
CREATED:20240426T161048Z
LAST-MODIFIED:20241118T172302Z
UID:8241-1733018400-1733072400@www.bayhistorical.com
SUMMARY:Santa rides\, Rose Hill Museum\, Osborn closed
DESCRIPTION:The Bay Village Historical Society is inviting adults and children of all ages to join them in celebrating an old-fashioned community Christmas on three Sundays 2-4:30 p.m. and three Wednesdays 5:30-8:00 p.m. in December.\nFollow Mr. and Mrs. Santa Claus on their journey through the streets of Bay Village aboard a fire truck on Dec. 1. They will leave from the Bay Lodge on Bradley Rd. at 2 p.m. and will arrive at the gazebo in the center of town for the holiday tree lighting ceremony around 4:30 p.m.\nRose Hill Museum will be closed today.
URL:https://www.bayhistorical.com/event/rose-hill-museum-osborn-learning-center-closed-for-thanksgiving-2/
END:VEVENT
BEGIN:VEVENT
DTSTART;TZID=America/New_York:20241204T170000
DTEND;TZID=America/New_York:20241204T193000
DTSTAMP:20260421T194602
CREATED:20240426T161239Z
LAST-MODIFIED:20241205T183300Z
UID:8248-1733331600-1733340600@www.bayhistorical.com
SUMMARY:Rose Hill Museum\, Osborn Learning Center open
DESCRIPTION:Step back in time to experience Christmas past at the Rose Hill Museum \nRose Hill Museum will be beautifully decorated for the holiday season.  \nMuseum guides will be dressed in period costumes. The gift shop will be open and stocked with signature Bay Village gifts. Make a visit to Rose Hill Museum and the Bay Village historic district during the Christmas season a part of your holiday tradition.
URL:https://www.bayhistorical.com/event/rose-hill-museum-osborn-learning-center-open-91/
END:VEVENT
BEGIN:VEVENT
DTSTART;TZID=America/New_York:20241208T133000
DTEND;TZID=America/New_York:20241208T163000
DTSTAMP:20260421T194602
CREATED:20240426T161144Z
LAST-MODIFIED:20241119T173746Z
UID:8244-1733664600-1733675400@www.bayhistorical.com
SUMMARY:Santa photos\, Rose Hill Museum\, Osborn open
DESCRIPTION:Rose Hill Museum will be beautifully decorated for the holiday season. “The Night Before Christmas” each day. The Bay High Choraleers will sing carols at Rose Hill Dec. 8 at 3 p.m. \nA variety of demonstrations may be viewed each day. \nHave your family (even the dog!) photographed with Mr. and Mrs. Santa Claus and elves aboard our refurbished vintage sleigh on Dec. 11. The cost is $20\, and reservations are recommended to reserve a time. You can pay in advance via PayPal to “info@bayhistorical.com” or by cash or check payable to the Bay Village Historical Society\, collected at the event. Photos will be emailed to you. Refreshments will be available. Sign up on the Santa Claus page of www.bayhistorical.com. Available time slots are filling up fast so do not delay. \nMuseum guides will be dressed in period costumes. The gift shop will be open and stocked with signature Bay Village gifts. Make a visit to Rose Hill Museum and the Bay Village historic district during the Christmas season a part of your holiday tradition.
URL:https://www.bayhistorical.com/event/rose-hill-museum-osborn-learning-center-open-89/
LOCATION:Rose Hill Museum\, 27715 Lake Road\, Bay Village\, OH\, 44140\, United States
END:VEVENT
BEGIN:VEVENT
DTSTART;TZID=America/New_York:20241211T170000
DTEND;TZID=America/New_York:20241211T193000
DTSTAMP:20260421T194602
CREATED:20240426T161304Z
LAST-MODIFIED:20241205T183320Z
UID:8250-1733936400-1733945400@www.bayhistorical.com
SUMMARY:Rose Hill Museum\, Osborn Learning Center open
DESCRIPTION:Step back in time to experience Christmas past at the Rose Hill Museum \nRose Hill Museum will be beautifully decorated for the holiday season.  \nMuseum guides will be dressed in period costumes. The gift shop will be open and stocked with signature Bay Village gifts. Make a visit to Rose Hill Museum and the Bay Village historic district during the Christmas season a part of your holiday tradition.
URL:https://www.bayhistorical.com/event/rose-hill-museum-osborn-learning-center-open-92/
END:VEVENT
BEGIN:VEVENT
DTSTART;TZID=America/New_York:20241215T140000
DTEND;TZID=America/New_York:20241215T163000
DTSTAMP:20260421T194602
CREATED:20240426T161213Z
LAST-MODIFIED:20240426T161213Z
UID:8246-1734271200-1734280200@www.bayhistorical.com
SUMMARY:Rose Hill Museum\, Osborn Learning Center open
DESCRIPTION:
URL:https://www.bayhistorical.com/event/rose-hill-museum-osborn-learning-center-open-90/
END:VEVENT
BEGIN:VEVENT
DTSTART;TZID=America/New_York:20241218T170000
DTEND;TZID=America/New_York:20241218T193000
DTSTAMP:20260421T194602
CREATED:20240426T161359Z
LAST-MODIFIED:20241205T183342Z
UID:8254-1734541200-1734550200@www.bayhistorical.com
SUMMARY:Rose Hill Museum\, Osborn Learning Center open
DESCRIPTION:Step back in time to experience Christmas past at the Rose Hill Museum \nRose Hill Museum will be beautifully decorated for the holiday season.  \nMuseum guides will be dressed in period costumes. The gift shop will be open and stocked with signature Bay Village gifts. Make a visit to Rose Hill Museum and the Bay Village historic district during the Christmas season a part of your holiday tradition.
URL:https://www.bayhistorical.com/event/rose-hill-museum-osborn-learning-center-open-94/
END:VEVENT
BEGIN:VEVENT
DTSTART;TZID=America/New_York:20241222T140000
DTEND;TZID=America/New_York:20241222T163000
DTSTAMP:20260421T194602
CREATED:20240426T161333Z
LAST-MODIFIED:20240426T161333Z
UID:8252-1734876000-1734885000@www.bayhistorical.com
SUMMARY:Rose Hill Museum\, Osborn Learning Center open
DESCRIPTION:
URL:https://www.bayhistorical.com/event/rose-hill-museum-osborn-learning-center-open-93/
END:VEVENT
BEGIN:VEVENT
DTSTART;TZID=America/New_York:20241223T080000
DTEND;TZID=America/New_York:20241223T170000
DTSTAMP:20260421T194602
CREATED:20240426T161650Z
LAST-MODIFIED:20240426T161650Z
UID:8258-1734940800-1734973200@www.bayhistorical.com
SUMMARY:Rose Hill Museum\, Osborn Learning Center closed until April 2025
DESCRIPTION:
URL:https://www.bayhistorical.com/event/rose-hill-museum-osborn-learning-center-closed-until-april-2025/
END:VEVENT
END:VCALENDAR