BEGIN:VCALENDAR
VERSION:2.0
PRODID:-// - ECPv6.15.20//NONSGML v1.0//EN
CALSCALE:GREGORIAN
METHOD:PUBLISH
X-ORIGINAL-URL:https://www.bayhistorical.com
X-WR-CALDESC:Events for 
REFRESH-INTERVAL;VALUE=DURATION:PT1H
X-Robots-Tag:noindex
X-PUBLISHED-TTL:PT1H
BEGIN:VTIMEZONE
TZID:America/New_York
BEGIN:DAYLIGHT
TZOFFSETFROM:-0500
TZOFFSETTO:-0400
TZNAME:EDT
DTSTART:20220313T070000
END:DAYLIGHT
BEGIN:STANDARD
TZOFFSETFROM:-0400
TZOFFSETTO:-0500
TZNAME:EST
DTSTART:20221106T060000
END:STANDARD
BEGIN:DAYLIGHT
TZOFFSETFROM:-0500
TZOFFSETTO:-0400
TZNAME:EDT
DTSTART:20230312T070000
END:DAYLIGHT
BEGIN:STANDARD
TZOFFSETFROM:-0400
TZOFFSETTO:-0500
TZNAME:EST
DTSTART:20231105T060000
END:STANDARD
BEGIN:DAYLIGHT
TZOFFSETFROM:-0500
TZOFFSETTO:-0400
TZNAME:EDT
DTSTART:20240310T070000
END:DAYLIGHT
BEGIN:STANDARD
TZOFFSETFROM:-0400
TZOFFSETTO:-0500
TZNAME:EST
DTSTART:20241103T060000
END:STANDARD
END:VTIMEZONE
BEGIN:VEVENT
DTSTART;TZID=America/New_York:20231203T140000
DTEND;TZID=America/New_York:20231203T163000
DTSTAMP:20260420T202959
CREATED:20230423T150023Z
LAST-MODIFIED:20231201T155755Z
UID:4976-1701612000-1701621000@www.bayhistorical.com
SUMMARY:Cahoon Christmas at Rose Hill Museum\, Osborn Learning Center open; Santa rides!
DESCRIPTION:Santa Claus will be touring Bay Village aboard a fire truck from 2 p.m. to 4:30 p.m.\, where he will help light the city’s holiday tree at the Cahoon Memorial Park gazebo. \nCahoon Christmas 2023 performances and demonstrations for December 3rd include: \n3:00 p.m. The Bay High Choraleers\, followed by a reading of “‘Twas the Night Before Christmas” \nThere will be spinning and weaving demonstrations every day the museum is open. The Medina Spinning and Weaving Guild\, the Lorain County Spinners and Weavers and the Crooked River Rug Hookers will be leading these demonstrations. See the 1830’s loom and purchase items woven on it! \nRose Hill Museum will be beautifully decorated for the holiday season with pathway luminaries and docents greeting you in vintage clothing. This year’s display will highlight White House Christmas cards designed by artist and Bay Village native Thomas William Jones\, along with other Bay Village scenes. \nPartake in the Nutcracker Scavenger Hunt and win a special Christmas treat! \nThe Rose Hill Museum store will be open with special holiday gifts available.
URL:https://www.bayhistorical.com/event/rose-hill-museum-osborn-learning-center-open-59/
END:VEVENT
BEGIN:VEVENT
DTSTART;TZID=America/New_York:20231206T160000
DTEND;TZID=America/New_York:20231206T190000
DTSTAMP:20260420T202959
CREATED:20231024T010212Z
LAST-MODIFIED:20231201T153945Z
UID:7196-1701878400-1701889200@www.bayhistorical.com
SUMMARY:Cahoon Christmas at Rose Hill Museum
DESCRIPTION:Since the museum is decorated so beautifully\, we thought we’d be open on Wednesdays in December! \nRose Hill Museum will be beautifully decorated for the holiday season with pathway luminaries and docents greeting you in vintage clothing. This year’s display will highlight  White House Christmas cards designed by artist and Bay Village native Thomas William Jones\, along with other Bay Village scenes. \nEnjoy a reading of “‘Twas the Night Before Christmas” and partake in the Nutcracker Scavenger Hunt to win a special Christmas treat! \nThere will be spinning and weaving demonstrations every day the museum is open. The Medina Spinning and Weaving Guild\, the Lorain County Spinners and Weavers and the Crooked River Rug Hookers will be leading these demonstrations. See the 1830’s loom and purchase items woven on it. \nThe museum gift shop will be open for holiday purchases. This is also an opportunity to see the newly constructed working model of the Cahoon family 1813 gristmill.
URL:https://www.bayhistorical.com/event/rose-hill-museum-open-for-christmas/
END:VEVENT
BEGIN:VEVENT
DTSTART;TZID=America/New_York:20231210T140000
DTEND;TZID=America/New_York:20231210T163000
DTSTAMP:20260420T202959
CREATED:20230423T150051Z
LAST-MODIFIED:20231207T190545Z
UID:4978-1702216800-1702225800@www.bayhistorical.com
SUMMARY:Cahoon Christmas at Rose Hill Museum\, Osborn Learning Center open; photos with Santa Claus!
DESCRIPTION:Santa Claus will be available for photos in an antique sleigh in front of the Rose Hill Museum from 2 p.m. to 4 p.m. A donation of $20 is requested for online sign up (on our Events/Cahoon Christmas 2023 page) or $25 cash on the day of the event. DUE TO ANTICIPATED INCLIMATE WEATHER\, SANTA WILL NOW BE TAKING PHOTOS IN THE COUNTRY KITCHEN\, IN FRONT OF THE FIREPLACE. \nCahoon Christmas 2023 performances and demonstrations for December 10th include:\n2:30 p.m. Bay Middle School Orchestra\, followed by a reading of “‘Twas the Night Before Christmas”\nSpinning and loom demonstrations. \nRose Hill Museum will be beautifully decorated for the holiday season with pathway luminaries and docents greeting you in vintage clothing. \nThis year’s display will highlight White House Christmas cards designed by artist and Bay Village native Thomas William Jones\, along with other Bay Village scenes. \nPartake in the Nutcracker Scavenger Hunt and win a special Christmas treat! \nThe Rose Hill Museum store will be open with special holiday gifts available. \nThis is also an opportunity to see the newly constructed working model of the Cahoon family 1813 gristmill. \n 
URL:https://www.bayhistorical.com/event/rose-hill-museum-osborn-learning-center-open-60/
END:VEVENT
BEGIN:VEVENT
DTSTART;TZID=America/New_York:20231213T160000
DTEND;TZID=America/New_York:20231213T190000
DTSTAMP:20260420T202959
CREATED:20231024T010250Z
LAST-MODIFIED:20231201T160122Z
UID:7198-1702483200-1702494000@www.bayhistorical.com
SUMMARY:Cahoon Christmas at Rose Hill Museum
DESCRIPTION:Rose Hill Museum will be beautifully decorated for the holiday season with pathway luminaries and docents greeting you in vintage clothing. This year’s display will highlight the White House Christmas cards designed by artist and Bay Village native Thomas William Jones\, along with other Bay Village scenes. \nCahoon Christmas 2023 performances and demonstrations for December 13th include: \n4:15 p.m. Bay High School String Quartet\n6:00 – 7:00 p.m. Rachel Boettler\, flute\n6:00 p.m. “’Twas the Night Before Christmas\,” read by Preston Postle.\nSpinning and loom demonstrations. \nPartake in the Nutcracker Scavenger Hunt and win a special Christmas treat! \nThe Rose Hill Museum store will be open with special holiday gifts available.
URL:https://www.bayhistorical.com/event/rose-hill-museum-open-for-christmas-2/
END:VEVENT
BEGIN:VEVENT
DTSTART;TZID=America/New_York:20231217T140000
DTEND;TZID=America/New_York:20231217T163000
DTSTAMP:20260420T202959
CREATED:20230423T150121Z
LAST-MODIFIED:20231201T160212Z
UID:4980-1702821600-1702830600@www.bayhistorical.com
SUMMARY:Cahoon Christmas at Rose Hill Museum\, Osborn Learning Center open
DESCRIPTION:Rose Hill Museum will be beautifully decorated for the holiday season with pathway luminaries and docents greeting you in vintage clothing. \nThis year’s display will highlight White House Christmas cards designed by artist and Bay Village native Thomas William Jones\, along with other Bay Village scenes. \nCahoon Christmas 2023 performances and demonstrations for December 17th include:\n3:45 p.m. “‘Twas the Night Before Christmas\,” read by Preston Postle\nSpinning and loom demonstrations. \nPartake in the Nutcracker Scavenger Hunt and win a special Christmas treat! \nThe Rose Hill Museum store will be open with special holiday gifts available.
URL:https://www.bayhistorical.com/event/rose-hill-museum-osborn-learning-center-open-61/
END:VEVENT
BEGIN:VEVENT
DTSTART;TZID=America/New_York:20231220T160000
DTEND;TZID=America/New_York:20231220T190000
DTSTAMP:20260420T202959
CREATED:20231024T010338Z
LAST-MODIFIED:20231201T160246Z
UID:7200-1703088000-1703098800@www.bayhistorical.com
SUMMARY:Cahoon Christmas at Rose Hill Museum
DESCRIPTION:Since the museum is decorated so beautifully\, we thought we’d be open on Wednesdays in December! \nRose Hill Museum will be beautifully decorated for the holiday season. This year’s display will highlight the White House Christmas cards designed by artist and Bay Village native Thomas William Jones\, along with other Bay Village scenes. \nCahoon Christmas 2023 performances and demonstrations for December 20th include:\n4:00 – 5:00 p.m. Rachel Boettler\, flute\n6:00 p.m. “‘Twas the Night Before Christmas\,” read by Preston Postle\nSpinning and loom demonstrations. \nPartake in the Nutcracker Scavenger Hunt and win a special Christmas treat! \nThe Rose Hill Museum store will be open with special holiday gifts available. \nThis is also an opportunity to see the newly constructed working model of the Cahoon family 1813 gristmill. \n  \n 
URL:https://www.bayhistorical.com/event/rose-hill-museum-open-for-christmas-3/
END:VEVENT
BEGIN:VEVENT
DTSTART;VALUE=DATE:20231224
DTEND;VALUE=DATE:20231225
DTSTAMP:20260420T202959
CREATED:20230423T150159Z
LAST-MODIFIED:20230617T143609Z
UID:4982-1703376000-1703462399@www.bayhistorical.com
SUMMARY:Rose Hill Museum\, Osborn Learning Center closed until April 2024
DESCRIPTION:
URL:https://www.bayhistorical.com/event/rose-hill-museum-osborn-learning-center-closed-until-april-2024/
END:VEVENT
END:VCALENDAR