BEGIN:VCALENDAR
VERSION:2.0
PRODID:-// - ECPv6.15.20//NONSGML v1.0//EN
CALSCALE:GREGORIAN
METHOD:PUBLISH
X-ORIGINAL-URL:https://www.bayhistorical.com
X-WR-CALDESC:Events for 
REFRESH-INTERVAL;VALUE=DURATION:PT1H
X-Robots-Tag:noindex
X-PUBLISHED-TTL:PT1H
BEGIN:VTIMEZONE
TZID:America/New_York
BEGIN:DAYLIGHT
TZOFFSETFROM:-0500
TZOFFSETTO:-0400
TZNAME:EDT
DTSTART:20220313T070000
END:DAYLIGHT
BEGIN:STANDARD
TZOFFSETFROM:-0400
TZOFFSETTO:-0500
TZNAME:EST
DTSTART:20221106T060000
END:STANDARD
BEGIN:DAYLIGHT
TZOFFSETFROM:-0500
TZOFFSETTO:-0400
TZNAME:EDT
DTSTART:20230312T070000
END:DAYLIGHT
BEGIN:STANDARD
TZOFFSETFROM:-0400
TZOFFSETTO:-0500
TZNAME:EST
DTSTART:20231105T060000
END:STANDARD
BEGIN:DAYLIGHT
TZOFFSETFROM:-0500
TZOFFSETTO:-0400
TZNAME:EDT
DTSTART:20240310T070000
END:DAYLIGHT
BEGIN:STANDARD
TZOFFSETFROM:-0400
TZOFFSETTO:-0500
TZNAME:EST
DTSTART:20241103T060000
END:STANDARD
END:VTIMEZONE
BEGIN:VTIMEZONE
TZID:UTC
BEGIN:STANDARD
TZOFFSETFROM:+0000
TZOFFSETTO:+0000
TZNAME:UTC
DTSTART:20210101T000000
END:STANDARD
END:VTIMEZONE
BEGIN:VEVENT
DTSTART;TZID=America/New_York:20230514T140000
DTEND;TZID=America/New_York:20230514T163000
DTSTAMP:20260420T212056
CREATED:20230423T144351Z
LAST-MODIFIED:20230513T032910Z
UID:4918-1684072800-1684081800@www.bayhistorical.com
SUMMARY:Rose Hill museum\, Osborn Learning Center closed for Mother's Day
DESCRIPTION:
URL:https://www.bayhistorical.com/event/rose-hill-museum-osborn-learning-center-open-34/
END:VEVENT
BEGIN:VEVENT
DTSTART;TZID=America/New_York:20230507T140000
DTEND;TZID=America/New_York:20230507T163000
DTSTAMP:20260420T212056
CREATED:20230423T144320Z
LAST-MODIFIED:20230423T151107Z
UID:4916-1683468000-1683477000@www.bayhistorical.com
SUMMARY:Rose Hill museum\, Osborn Learning Center open
DESCRIPTION:The artistry and significance of beadwork is on full display at Rose Hill Museum’s latest exhibition\, “Beadwork: The Beauty of Small Things.” \nAlong with its permanent display of artifacts from the history of Bay Village\, the museum will temporarily showcase beaded items from the Bay Village Historical Society’s collections that are not often displayed to the public. The exhibition offers a unique opportunity to explore intricate designs on many aspects of beadwork on both clothing\, personal items and salesman’s samples from years gone by. \nThese stunning works of art showcase the versatility of beadwork and its enduring place in fashion and adornment. Don’t miss your chance to experience\, “Beadwork: The Beauty of Small Things.” Visit Rose Hill Museum to witness the stunning beauty and cultural significance of these small yet powerful objects. Admission is free. Group tours can be arranged.
URL:https://www.bayhistorical.com/event/rose-hill-museum-osborn-learning-center-open-33/
END:VEVENT
BEGIN:VEVENT
DTSTART;TZID=America/New_York:20230430T140000
DTEND;TZID=America/New_York:20230430T163000
DTSTAMP:20260420T212056
CREATED:20230423T144232Z
LAST-MODIFIED:20230423T151534Z
UID:4914-1682863200-1682872200@www.bayhistorical.com
SUMMARY:Rose Hill museum\, Osborn Learning Center open
DESCRIPTION:The artistry and significance of beadwork is on full display at Rose Hill Museum’s latest exhibition\, “Beadwork: The Beauty of Small Things.” \nAlong with its permanent display of artifacts from the history of Bay Village\, the museum will temporarily showcase beaded items from the Bay Village Historical Society’s collections that are not often displayed to the public. The exhibition offers a unique opportunity to explore intricate designs on many aspects of beadwork on both clothing\, personal items and salesman’s samples from years gone by. \nThese stunning works of art showcase the versatility of beadwork and its enduring place in fashion and adornment. Don’t miss your chance to experience\, “Beadwork: The Beauty of Small Things.” Visit Rose Hill Museum to witness the stunning beauty and cultural significance of these small yet powerful objects. Admission is free. Group tours can be arranged.
URL:https://www.bayhistorical.com/event/rose-hill-museum-osborn-learning-center-open-32/
END:VEVENT
BEGIN:VEVENT
DTSTART;TZID=America/New_York:20230423T140000
DTEND;TZID=America/New_York:20230423T163000
DTSTAMP:20260420T212056
CREATED:20230423T144123Z
LAST-MODIFIED:20230423T151011Z
UID:4912-1682258400-1682267400@www.bayhistorical.com
SUMMARY:Rose Hill museum\, Osborn Learning Center open
DESCRIPTION:The artistry and significance of beadwork is on full display at Rose Hill Museum’s latest exhibition\, “Beadwork: The Beauty of Small Things.” \nAlong with its permanent display of artifacts from the history of Bay Village\, the museum will temporarily showcase beaded items from the Bay Village Historical Society’s collections that are not often displayed to the public. The exhibition offers a unique opportunity to explore intricate designs on many aspects of beadwork on both clothing\, personal items and salesman’s samples from years gone by. \nThese stunning works of art showcase the versatility of beadwork and its enduring place in fashion and adornment. Don’t miss your chance to experience\, “Beadwork: The Beauty of Small Things.” Visit Rose Hill Museum to witness the stunning beauty and cultural significance of these small yet powerful objects. Admission is free. Group tours can be arranged.
URL:https://www.bayhistorical.com/event/rose-hill-museum-osborn-learning-center-open-31/
END:VEVENT
BEGIN:VEVENT
DTSTART;TZID=America/New_York:20230307T170000
DTEND;TZID=America/New_York:20230307T210000
DTSTAMP:20260420T212056
CREATED:20230130T225047Z
LAST-MODIFIED:20230130T225047Z
UID:4692-1678208400-1678222800@www.bayhistorical.com
SUMMARY:"Plate it Forward" at Houlihan's restaurant in Westlake
DESCRIPTION:Want\, and need\, a night out? WHO DOESN’T? Help support the Bay Village Historical Society by dining at Houlihan’s in Westlake on Tue.\, March 7\, between 5 p.m. and 9 p.m. Be sure to mention “Bay Village Historical Society” so a portion of your check goes to support the society. Bon appetit!
URL:https://www.bayhistorical.com/event/plate-it-forward-at-houlihans-restaurant-in-westlake/
LOCATION:Houlihan’s restaurant\, 25651 Detroit\, Westlake\, OH\, 44145\, United States
END:VEVENT
BEGIN:VEVENT
DTSTART;TZID=America/New_York:20230219T090000
DTEND;TZID=America/New_York:20230219T160000
DTSTAMP:20260420T212056
CREATED:20230213T034649Z
LAST-MODIFIED:20230213T034649Z
UID:4750-1676797200-1676822400@www.bayhistorical.com
SUMMARY:BVHS at BWC antique show
DESCRIPTION:Look for the Bay Village Historical Society booth at the Bay Women’s Club antique show at the high school.
URL:https://www.bayhistorical.com/event/bvhs-at-bwc-antique-show/
LOCATION:bay high school
END:VEVENT
BEGIN:VEVENT
DTSTART;TZID=America/New_York:20230218T090000
DTEND;TZID=America/New_York:20230218T160000
DTSTAMP:20260420T212056
CREATED:20230213T034725Z
LAST-MODIFIED:20230213T034725Z
UID:4753-1676710800-1676736000@www.bayhistorical.com
SUMMARY:BVHS at BWC antique show
DESCRIPTION:Look for the Bay Village Historical Society booth at the Bay Women’s Club antique show at the high school.
URL:https://www.bayhistorical.com/event/bvhs-at-bwc-antique-show-2/
END:VEVENT
BEGIN:VEVENT
DTSTART;TZID=America/New_York:20230216T180000
DTEND;TZID=America/New_York:20230216T200000
DTSTAMP:20260420T212056
CREATED:20230213T034424Z
LAST-MODIFIED:20230213T034424Z
UID:4748-1676570400-1676577600@www.bayhistorical.com
SUMMARY:BVHS potluck and speaker
DESCRIPTION:6:00 p.m. social\, 6:30 p.m. potluck dinner\, 7:00 p.m. program\nMain Dish – provided by The Bay Village Historical Society\nLast name beginning with: A-J bring an appetizer or dessert for ten; K-Z bring a side dish for ten.\nBring your own place setting.\nPlease bring a beverage of choice. Alcohol is permitted at Bay Lodge.\nThere will be a $10 charge for non-members at the door.\nHISTORY OF THE AMERICAN SHIPBUILDING COMPANY\nLocal Historian\, Matthew Weisman\, will speak about The American Ship Building Company at Lorain. He will discuss the early forming of the company and the Steinbrenner family connections.
URL:https://www.bayhistorical.com/event/bvhs-potluck-and-speaker/
LOCATION:Bay Lodge\, 492 Bradley Road\, Bay Village\, OH\, 44140\, United States
END:VEVENT
BEGIN:VEVENT
DTSTART;TZID=UTC:20230101T140000
DTEND;TZID=UTC:20230101T163000
DTSTAMP:20260420T212056
CREATED:20220207T221159Z
LAST-MODIFIED:20220207T221159Z
UID:3030-1672581600-1672590600@www.bayhistorical.com
SUMMARY:Rose Hill Museum\, Osborn Learning Center closed until April 2023
DESCRIPTION:
URL:https://www.bayhistorical.com/event/rose-hill-museum-osborn-learning-center-closed-until-april-2023-2/
END:VEVENT
BEGIN:VEVENT
DTSTART;TZID=UTC:20221225T140000
DTEND;TZID=UTC:20221225T163000
DTSTAMP:20260420T212056
CREATED:20220207T221044Z
LAST-MODIFIED:20220207T221044Z
UID:3028-1671976800-1671985800@www.bayhistorical.com
SUMMARY:Rose Hill Museum\, Osborn Learning Center closed until April 2023
DESCRIPTION:
URL:https://www.bayhistorical.com/event/rose-hill-museum-osborn-learning-center-closed-until-april-2023/
END:VEVENT
BEGIN:VEVENT
DTSTART;TZID=UTC:20221218T140000
DTEND;TZID=UTC:20221218T163000
DTSTAMP:20260420T212056
CREATED:20220207T221009Z
LAST-MODIFIED:20221114T062522Z
UID:3026-1671372000-1671381000@www.bayhistorical.com
SUMMARY:Rose Hill Museum\, Osborn Learning Center open
DESCRIPTION:“The Night Before Christmas” will be read by Preston Postle at 2 p.m.
URL:https://www.bayhistorical.com/event/rose-hill-museum-osborn-learning-center-open-30/
END:VEVENT
BEGIN:VEVENT
DTSTART;TZID=UTC:20221211T140000
DTEND;TZID=UTC:20221211T163000
DTSTAMP:20260420T212056
CREATED:20220207T220941Z
LAST-MODIFIED:20221114T062806Z
UID:3024-1670767200-1670776200@www.bayhistorical.com
SUMMARY:Rose Hill Museum\, Osborn Learning Center open; photos with Mr. & Mrs. Santa Claus
DESCRIPTION:“The Night Before Christmas” will be read by Preston Postle at 2 p.m. The Bay High Choraleers will sing carols at Rose Hill on Dec. 11 at 2:30 p.m.\nHave your family (even the dog!) photographed with Mr. and Mrs. Santa Claus with a newly refurbished sleigh on Dec. 11. The cost is $20\, cash or check payable to the Bay Village Historical Society\, collected at the event. Photos will be emailed to you. Refreshments will be available. Email info@bayhistorical.com with the time you would like to be photographed. Photos will be taken at five-minute intervals between 2 p.m. and 4:30 p.m.
URL:https://www.bayhistorical.com/event/rose-hill-museum-osborn-learning-center-open-29/
END:VEVENT
BEGIN:VEVENT
DTSTART;TZID=UTC:20221206T170000
DTEND;TZID=UTC:20221206T210000
DTSTAMP:20260420T212056
CREATED:20221130T202738Z
LAST-MODIFIED:20221130T202738Z
UID:4372-1670346000-1670360400@www.bayhistorical.com
SUMMARY:BVHS selling Bay-logoed items
DESCRIPTION:The Bay Village Historical Society is selling its embroidered Bay baseball hats\, new embroidered Bay stocking caps\, Bay Village-branded cellphone holders\, mystery bags and more treats for children of all ages at St. Raphael School\, 525 Dover Center\, Tue.\, Dec. 6\, from 5:30-9:00 p.m.\nPlease help support the Bay Village Historical Society at these two upcoming events.
URL:https://www.bayhistorical.com/event/bvhs-selling-bay-logoed-items/
END:VEVENT
BEGIN:VEVENT
DTSTART;TZID=UTC:20221204T140000
DTEND;TZID=UTC:20221204T163000
DTSTAMP:20260420T212056
CREATED:20220207T220917Z
LAST-MODIFIED:20221114T062422Z
UID:3022-1670162400-1670171400@www.bayhistorical.com
SUMMARY:Rose Hill Museum\, Osborn Learning Center open; Santa Claus tours town
DESCRIPTION:Follow Mr. and Mrs. Santa Claus on their journey through the streets of Bay Village aboard a fire truck on Dec. 4. They will leave from the Bay Lodge on Bradley Rd. at 2 p.m. and will arrive at the gazebo in the center of town for the holiday tree lighting ceremony around 4:30 p.m. “The Night Before Christmas” will be read by Preston Postle in the museum.
URL:https://www.bayhistorical.com/event/rose-hill-museum-osborn-learning-center-open-santa-claus-tours-town/
END:VEVENT
BEGIN:VEVENT
DTSTART;TZID=UTC:20221201T170000
DTEND;TZID=UTC:20221201T210000
DTSTAMP:20260420T212056
CREATED:20221130T202632Z
LAST-MODIFIED:20221130T202632Z
UID:4370-1669914000-1669928400@www.bayhistorical.com
SUMMARY:BVHS offering Bay-logoed items
DESCRIPTION:The Bay Village Historical Society is selling its embroidered Bay baseball hats\, new embroidered Bay stocking caps\, Bay Village-branded cellphone holders\, mystery bags and more treats for children of all ages at The Village Project\, 27378 W. Oviatt\, Thur.\, Dec. 1\, from 5:00-9:00 p.m.\nPlease help support the Bay Village Historical Society at these two upcoming events.
URL:https://www.bayhistorical.com/event/bvhs-offering-bay-logoed-items/
END:VEVENT
BEGIN:VEVENT
DTSTART;TZID=UTC:20221127T140000
DTEND;TZID=UTC:20221127T163000
DTSTAMP:20260420T212056
CREATED:20220207T220835Z
LAST-MODIFIED:20220207T220835Z
UID:3020-1669557600-1669566600@www.bayhistorical.com
SUMMARY:Rose Hill Museum\, Osborn Learning Center closed for Thanksgiving
DESCRIPTION:
URL:https://www.bayhistorical.com/event/rose-hill-museum-osborn-learning-center-closed-for-thanksgiving/
END:VEVENT
BEGIN:VEVENT
DTSTART;TZID=UTC:20221120T140000
DTEND;TZID=UTC:20221120T163000
DTSTAMP:20260420T212056
CREATED:20220207T220800Z
LAST-MODIFIED:20220207T220800Z
UID:3018-1668952800-1668961800@www.bayhistorical.com
SUMMARY:Rose Hill Museum\, Osborn Learning Center open
DESCRIPTION:
URL:https://www.bayhistorical.com/event/rose-hill-museum-osborn-learning-center-open-28/
END:VEVENT
BEGIN:VEVENT
DTSTART;TZID=UTC:20221113T140000
DTEND;TZID=UTC:20221113T163000
DTSTAMP:20260420T212056
CREATED:20220207T220732Z
LAST-MODIFIED:20220207T220732Z
UID:3016-1668348000-1668357000@www.bayhistorical.com
SUMMARY:Rose Hill Museum\, Osborn Learning Center open
DESCRIPTION:
URL:https://www.bayhistorical.com/event/rose-hill-museum-osborn-learning-center-open-27/
END:VEVENT
BEGIN:VEVENT
DTSTART;TZID=UTC:20221106T140000
DTEND;TZID=UTC:20221106T163000
DTSTAMP:20260420T212056
CREATED:20220207T220703Z
LAST-MODIFIED:20220207T220703Z
UID:3014-1667743200-1667752200@www.bayhistorical.com
SUMMARY:Rose Hill Museum\, Osborn Learning Center open
DESCRIPTION:
URL:https://www.bayhistorical.com/event/rose-hill-museum-osborn-learning-center-open-26/
END:VEVENT
BEGIN:VEVENT
DTSTART;TZID=UTC:20221030T140000
DTEND;TZID=UTC:20221030T163000
DTSTAMP:20260420T212056
CREATED:20220207T220435Z
LAST-MODIFIED:20220207T220508Z
UID:3008-1667138400-1667147400@www.bayhistorical.com
SUMMARY:Rose Hill Museum\, Osborn Learning Center open
DESCRIPTION:
URL:https://www.bayhistorical.com/event/rose-hill-museum-osborn-learning-center-open-23/
END:VEVENT
BEGIN:VEVENT
DTSTART;TZID=UTC:20221023T140000
DTEND;TZID=UTC:20221023T163000
DTSTAMP:20260420T212056
CREATED:20220207T220617Z
LAST-MODIFIED:20220207T220617Z
UID:3012-1666533600-1666542600@www.bayhistorical.com
SUMMARY:Rose Hill Museum\, Osborn Learning Center open
DESCRIPTION:
URL:https://www.bayhistorical.com/event/rose-hill-museum-osborn-learning-center-open-25/
END:VEVENT
BEGIN:VEVENT
DTSTART;TZID=UTC:20221016T140000
DTEND;TZID=UTC:20221016T163000
DTSTAMP:20260420T212056
CREATED:20220207T220552Z
LAST-MODIFIED:20220207T220552Z
UID:3010-1665928800-1665937800@www.bayhistorical.com
SUMMARY:Rose Hill Museum\, Osborn Learning Center open
DESCRIPTION:
URL:https://www.bayhistorical.com/event/rose-hill-museum-osborn-learning-center-open-24/
END:VEVENT
BEGIN:VEVENT
DTSTART;TZID=UTC:20221010T100000
DTEND;TZID=UTC:20221010T120000
DTSTAMP:20260420T212056
CREATED:20220823T001134Z
LAST-MODIFIED:20220823T001134Z
UID:3881-1665396000-1665403200@www.bayhistorical.com
SUMMARY:Walk through Bay Village history
DESCRIPTION:Stephanie West will lead a “Walk through Bay Village History” on Monday\, October 10\, at 10 a.m. Walkers will meet at the Cahoon Memorial Park gazebo and begin with the Joseph and Lydia Cahoon story and walk west through the Porter and Osborn early homestead site locations. Then they will walk back to the town center and down Dover Center\, following the development of the business district. Finally\, they will walk through Cahoon Memorial Park and discuss the enduring legacy of Ida Maria Cahoon’s last will and testament to the City of Bay Village.  No reservations required. Just join the group at 10 a.m.
URL:https://www.bayhistorical.com/event/walk-through-bay-village-history/
END:VEVENT
BEGIN:VEVENT
DTSTART;TZID=UTC:20221009T140000
DTEND;TZID=UTC:20221009T163000
DTSTAMP:20260420T212056
CREATED:20220207T220337Z
LAST-MODIFIED:20220207T220337Z
UID:3006-1665324000-1665333000@www.bayhistorical.com
SUMMARY:Rose Hill Museum\, Osborn Learning Center open
DESCRIPTION:
URL:https://www.bayhistorical.com/event/rose-hill-museum-osborn-learning-center-open-22/
END:VEVENT
BEGIN:VEVENT
DTSTART;TZID=UTC:20221002T140000
DTEND;TZID=UTC:20221002T163000
DTSTAMP:20260420T212056
CREATED:20220207T220304Z
LAST-MODIFIED:20220207T220304Z
UID:3004-1664719200-1664728200@www.bayhistorical.com
SUMMARY:Rose Hill Museum\, Osborn Learning Center open
DESCRIPTION:
URL:https://www.bayhistorical.com/event/rose-hill-museum-osborn-learning-center-open-21/
END:VEVENT
BEGIN:VEVENT
DTSTART;TZID=UTC:20220925T140000
DTEND;TZID=UTC:20220925T163000
DTSTAMP:20260420T212056
CREATED:20220207T215713Z
LAST-MODIFIED:20220207T215713Z
UID:3002-1664114400-1664123400@www.bayhistorical.com
SUMMARY:Rose Hill Museum\, Osborn Learning Center open
DESCRIPTION:
URL:https://www.bayhistorical.com/event/rose-hill-museum-osborn-learning-center-open-20/
END:VEVENT
BEGIN:VEVENT
DTSTART;TZID=UTC:20220918T140000
DTEND;TZID=UTC:20220918T163000
DTSTAMP:20260420T212056
CREATED:20220207T215644Z
LAST-MODIFIED:20220207T215644Z
UID:3000-1663509600-1663518600@www.bayhistorical.com
SUMMARY:Rose Hill Museum\, Osborn Learning Center open
DESCRIPTION:
URL:https://www.bayhistorical.com/event/rose-hill-museum-osborn-learning-center-open-19/
END:VEVENT
BEGIN:VEVENT
DTSTART;TZID=UTC:20220915T180000
DTEND;TZID=UTC:20220915T200000
DTSTAMP:20260420T212056
CREATED:20220826T213520Z
LAST-MODIFIED:20220826T213520Z
UID:3883-1663264800-1663272000@www.bayhistorical.com
SUMMARY:Quarterly potluch supper
DESCRIPTION:Rediscover “Mid 19th Century Cuisine\,” as part of the Thur.\, Sept. 15\, Bay Village Historical Society potluck program. \nGuest speaker Angie George\, a member of the North Coast Narrative\, a group dedicated to bringing Ohio history to life\, will talk about food before supermarkets. Where did food come from? How was it prepared? What did kitchens look like 150 years ago before electricity? How does food preparation resemble and differ from today?  \nThese topics will be discussed during the hour-long presentation. Enjoy samples and take home recipes of period food items to try yourself. The event\, held at the Bay Lodge on Bradley Rd. in Bay Village\, begins with a social at 6 p.m.\, followed by dinner at 6:30 p.m. and program at 7 p.m. \nThe main dish will be provided by the historical society. Attendees with last names beginning with A through L should bring an appetizer or dessert for 10 to share. Those with last names beginning with M through Z should bring a large side dish. All attendees should bring their own place setting and beverages. There will be a $10 charge at the door for non-members of the historical society. RSVP to htramba@sbcglobal.net or call (440) 537-1581.
URL:https://www.bayhistorical.com/event/quarterly-potluch-supper/
END:VEVENT
BEGIN:VEVENT
DTSTART;TZID=UTC:20220915T180000
DTEND;TZID=UTC:20220915T200000
DTSTAMP:20260420T212056
CREATED:20220724T225035Z
LAST-MODIFIED:20220724T225035Z
UID:3632-1663264800-1663272000@www.bayhistorical.com
SUMMARY:BVHS quarterly potluck supper
DESCRIPTION:The speaker will be Angie George\, talking about “Mid 19th Century Cuisine”\nAngie is a member of North Coast Narrative\, a group dedicating to bring Ohio history to life. What did people eat during a time before the supermarket? How was food prepared? Where did it come from? What did kitchens look like 150 years ago before electricity? How does food preparation and cooking methods resemble and differ from today? These topics will be discussed during this hour-long presentation on mid-19th century cuisine. Enjoy samples and take home recipes of period food items to try yourself\, like the “exotic” macaroni pipes and cheese! \nIf coming please RSVP via email to Holly Tramba at “htramba AT sbcglobal.net”
URL:https://www.bayhistorical.com/event/bvhs-quarterly-potluck-supper/
LOCATION:Bay Lodge\, 492 Bradley Road\, Bay Village\, OH\, 44140\, United States
END:VEVENT
BEGIN:VEVENT
DTSTART;TZID=UTC:20220911T140000
DTEND;TZID=UTC:20220911T163000
DTSTAMP:20260420T212056
CREATED:20220207T215614Z
LAST-MODIFIED:20220207T215614Z
UID:2998-1662904800-1662913800@www.bayhistorical.com
SUMMARY:Rose Hill Museum\, Osborn Learning Center open
DESCRIPTION:
URL:https://www.bayhistorical.com/event/rose-hill-museum-osborn-learning-center-open-18/
END:VEVENT
END:VCALENDAR