BEGIN:VCALENDAR
VERSION:2.0
PRODID:-// - ECPv6.15.20//NONSGML v1.0//EN
CALSCALE:GREGORIAN
METHOD:PUBLISH
X-ORIGINAL-URL:https://www.bayhistorical.com
X-WR-CALDESC:Events for 
REFRESH-INTERVAL;VALUE=DURATION:PT1H
X-Robots-Tag:noindex
X-PUBLISHED-TTL:PT1H
BEGIN:VTIMEZONE
TZID:America/New_York
BEGIN:DAYLIGHT
TZOFFSETFROM:-0500
TZOFFSETTO:-0400
TZNAME:EDT
DTSTART:20250309T070000
END:DAYLIGHT
BEGIN:STANDARD
TZOFFSETFROM:-0400
TZOFFSETTO:-0500
TZNAME:EST
DTSTART:20251102T060000
END:STANDARD
BEGIN:DAYLIGHT
TZOFFSETFROM:-0500
TZOFFSETTO:-0400
TZNAME:EDT
DTSTART:20260308T070000
END:DAYLIGHT
BEGIN:STANDARD
TZOFFSETFROM:-0400
TZOFFSETTO:-0500
TZNAME:EST
DTSTART:20261101T060000
END:STANDARD
BEGIN:DAYLIGHT
TZOFFSETFROM:-0500
TZOFFSETTO:-0400
TZNAME:EDT
DTSTART:20270314T070000
END:DAYLIGHT
BEGIN:STANDARD
TZOFFSETFROM:-0400
TZOFFSETTO:-0500
TZNAME:EST
DTSTART:20271107T060000
END:STANDARD
END:VTIMEZONE
BEGIN:VEVENT
DTSTART;VALUE=DATE:20260720
DTEND;VALUE=DATE:20260725
DTSTAMP:20260419T193055
CREATED:20260415T130021Z
LAST-MODIFIED:20260416T154247Z
UID:8881-1784505600-1784937599@www.bayhistorical.com
SUMMARY:Pioneer Days
DESCRIPTION:Bay Village Historical Society presents:\nPIONEER DAYS\nJuly 20-24\, 2026\nWINNER of The Ohio Museum Association’s 2025 Best Education/Outreach Award \n \n\n  \nThis award-winning camp invites children entering grades 3 through 6 to travel back in time and enjoy the same crafts\, games\, and adventures experienced by Bay Village’s earliest settlers! This year’s camp will include special activities to celebrate America250. \nThe program will take place 9 a.m. to noon\, July 20-24\, 2026\, at the Bay Village Police Station (drop-off/pick-up) and Cahoon Memorial Park. Campers will engage in candle-making\, pioneer games and cooking\, weaving and crafting\, nature walks\, and so much more! \nREGISTRATION NOW OPEN \n\n\nFollow these steps to register your child. Space is limited so reserve your spot today! \n\nComplete the online registration form. Please submit one form per child. Submitting this online form will hold your child’s spot in the program for 10 days. Payment and signed parental consent form MUST be received within 10 days to secure your child’s spot.\nPrint and sign the parent authorization form. Please complete one form per child. This form must be mailed (along with payment if paying by check) to the Bay Village Historical Society at:\nAttn: Pioneer Days\n440 Bradley Rd.\nBay Village\, OH 44140 \n\nSubmit payment. Cost is $90 if paying online / $85 if paying by check. Online payment available through Venmo (@bayvillagehistoricalsociety). If paying by check\, please make payable to Bay Village Historical Society and mail it in with signed parent authorization form.\n\nPAYMENT AND SIGNED PARENT AUTHORIZATION FORM MUST BE RECEIVED WITHIN 10 DAYS OF ONLINE REGISTRATION IN ORDER TO SECURE YOUR CHILD’S SPOT \nWAITLIST NOTICE: Registrations received after the program reaches capacity will be added to the waitlist. Should spaces become available\, waitlisters will be contacted in the order received. \nCANCELLATION POLICY: Cancellations will only be refunded if the child’s spot can be filled from the waitlist. Any refunds will be subject to a $10 cancellation fee. \nQuestions? Please contact us at bvhsrosehill@gmail.com
URL:https://www.bayhistorical.com/event/pioneer-days-7/
END:VEVENT
BEGIN:VEVENT
DTSTART;TZID=America/New_York:20260726T140000
DTEND;TZID=America/New_York:20260726T163000
DTSTAMP:20260419T193055
CREATED:20260313T191919Z
LAST-MODIFIED:20260313T191919Z
UID:8755-1785074400-1785083400@www.bayhistorical.com
SUMMARY:Rose Hill/Osborn/Cahoon Cabin Open (Speaker: TBD)
DESCRIPTION:
URL:https://www.bayhistorical.com/event/rose-hill-osborn-cahoon-cabin-open-speaker-tbd-3/
END:VEVENT
BEGIN:VEVENT
DTSTART;TZID=America/New_York:20260802T140000
DTEND;TZID=America/New_York:20260802T163000
DTSTAMP:20260419T193055
CREATED:20260313T192039Z
LAST-MODIFIED:20260313T192039Z
UID:8757-1785679200-1785688200@www.bayhistorical.com
SUMMARY:Rose Hill/Osborn/Cahoon Cabin Open (Speaker: TBD)
DESCRIPTION:
URL:https://www.bayhistorical.com/event/rose-hill-osborn-cahoon-cabin-open-speaker-tbd-5/
END:VEVENT
BEGIN:VEVENT
DTSTART;TZID=America/New_York:20260809T140000
DTEND;TZID=America/New_York:20260809T163000
DTSTAMP:20260419T193055
CREATED:20260313T192142Z
LAST-MODIFIED:20260313T192142Z
UID:8759-1786284000-1786293000@www.bayhistorical.com
SUMMARY:Rose Hill/Osborn/Cahoon Cabin Open (Speaker: TBD)
DESCRIPTION:
URL:https://www.bayhistorical.com/event/rose-hill-osborn-cahoon-cabin-open-speaker-tbd-6/
END:VEVENT
BEGIN:VEVENT
DTSTART;TZID=America/New_York:20260816T140000
DTEND;TZID=America/New_York:20260816T163000
DTSTAMP:20260419T193055
CREATED:20260313T192413Z
LAST-MODIFIED:20260313T192413Z
UID:8767-1786888800-1786897800@www.bayhistorical.com
SUMMARY:Rose Hill/Osborn/Cahoon Cabin Open (Speaker: TBD)
DESCRIPTION:
URL:https://www.bayhistorical.com/event/rose-hill-osborn-cahoon-cabin-open-speaker-tbd-10/
END:VEVENT
BEGIN:VEVENT
DTSTART;TZID=America/New_York:20260823T140000
DTEND;TZID=America/New_York:20260823T163000
DTSTAMP:20260419T193055
CREATED:20260313T192208Z
LAST-MODIFIED:20260313T192208Z
UID:8761-1787493600-1787502600@www.bayhistorical.com
SUMMARY:Rose Hill/Osborn/Cahoon Cabin Open (Speaker: TBD)
DESCRIPTION:
URL:https://www.bayhistorical.com/event/rose-hill-osborn-cahoon-cabin-open-speaker-tbd-7/
END:VEVENT
BEGIN:VEVENT
DTSTART;TZID=America/New_York:20260830T140000
DTEND;TZID=America/New_York:20260830T163000
DTSTAMP:20260419T193055
CREATED:20260313T192234Z
LAST-MODIFIED:20260313T192234Z
UID:8763-1788098400-1788107400@www.bayhistorical.com
SUMMARY:Rose Hill/Osborn/Cahoon Cabin Open (Speaker: TBD)
DESCRIPTION:
URL:https://www.bayhistorical.com/event/rose-hill-osborn-cahoon-cabin-open-speaker-tbd-8/
END:VEVENT
BEGIN:VEVENT
DTSTART;TZID=America/New_York:20260906T080000
DTEND;TZID=America/New_York:20260906T170000
DTSTAMP:20260419T193055
CREATED:20260313T192256Z
LAST-MODIFIED:20260313T192256Z
UID:8765-1788681600-1788714000@www.bayhistorical.com
SUMMARY:Rose Hill/Osborn/Cahoon Cabin Open (Speaker: TBD)
DESCRIPTION:
URL:https://www.bayhistorical.com/event/rose-hill-osborn-cahoon-cabin-open-speaker-tbd-9/
END:VEVENT
BEGIN:VEVENT
DTSTART;TZID=America/New_York:20260913T140000
DTEND;TZID=America/New_York:20260913T163000
DTSTAMP:20260419T193055
CREATED:20260313T192507Z
LAST-MODIFIED:20260313T192507Z
UID:8771-1789308000-1789317000@www.bayhistorical.com
SUMMARY:Rose Hill/Osborn/Cahoon Cabin Open (Speaker: TBD)
DESCRIPTION:
URL:https://www.bayhistorical.com/event/rose-hill-osborn-cahoon-cabin-open-speaker-tbd-11/
END:VEVENT
BEGIN:VEVENT
DTSTART;TZID=America/New_York:20260920T140000
DTEND;TZID=America/New_York:20260920T163000
DTSTAMP:20260419T193055
CREATED:20260313T192445Z
LAST-MODIFIED:20260327T154534Z
UID:8769-1789912800-1789921800@www.bayhistorical.com
SUMMARY:Rose Hill/Osborn/Cahoon Cabin Open (John Burke)
DESCRIPTION:Join us for another round of John Burke’s exceptional living history reenactments—topic to be determined.
URL:https://www.bayhistorical.com/event/rose-hill-osborn-cahoon-cabin-open-speaker-john-burke-2/
END:VEVENT
BEGIN:VEVENT
DTSTART;TZID=America/New_York:20260927T140000
DTEND;TZID=America/New_York:20260927T163000
DTSTAMP:20260419T193055
CREATED:20260327T194613Z
LAST-MODIFIED:20260327T194613Z
UID:8828-1790517600-1790526600@www.bayhistorical.com
SUMMARY:Rose Hill/Osborn/Cahoon Cabin Open (Speaker: TBD)
DESCRIPTION:
URL:https://www.bayhistorical.com/event/rose-hill-osborn-cahoon-cabin-open-speaker-tbd-12/
END:VEVENT
BEGIN:VEVENT
DTSTART;TZID=America/New_York:20261004T140000
DTEND;TZID=America/New_York:20261004T163000
DTSTAMP:20260419T193055
CREATED:20260327T194646Z
LAST-MODIFIED:20260327T194646Z
UID:8830-1791122400-1791131400@www.bayhistorical.com
SUMMARY:Rose Hill/Osborn/Cahoon Cabin Open (Speaker: TBD)
DESCRIPTION:
URL:https://www.bayhistorical.com/event/rose-hill-osborn-cahoon-cabin-open-speaker-tbd-13/
END:VEVENT
BEGIN:VEVENT
DTSTART;TZID=America/New_York:20261011T140000
DTEND;TZID=America/New_York:20261011T163000
DTSTAMP:20260419T193055
CREATED:20260327T194720Z
LAST-MODIFIED:20260327T194720Z
UID:8832-1791727200-1791736200@www.bayhistorical.com
SUMMARY:Rose Hill/Osborn/Cahoon Cabin Open (Speaker: TBD)
DESCRIPTION:
URL:https://www.bayhistorical.com/event/rose-hill-osborn-cahoon-cabin-open-speaker-tbd-14/
END:VEVENT
BEGIN:VEVENT
DTSTART;TZID=America/New_York:20261018T140000
DTEND;TZID=America/New_York:20261018T163000
DTSTAMP:20260419T193055
CREATED:20260327T194817Z
LAST-MODIFIED:20260327T194817Z
UID:8834-1792332000-1792341000@www.bayhistorical.com
SUMMARY:Rose Hill/Osborn/Cahoon Cabin Open (Speaker: TBD)
DESCRIPTION:
URL:https://www.bayhistorical.com/event/rose-hill-osborn-cahoon-cabin-open-speaker-tbd-15/
END:VEVENT
BEGIN:VEVENT
DTSTART;TZID=America/New_York:20261025T140000
DTEND;TZID=America/New_York:20261025T163000
DTSTAMP:20260419T193055
CREATED:20260327T194848Z
LAST-MODIFIED:20260327T194848Z
UID:8836-1792936800-1792945800@www.bayhistorical.com
SUMMARY:Rose Hill/Osborn/Cahoon Cabin Open (Speaker: TBD)
DESCRIPTION:
URL:https://www.bayhistorical.com/event/rose-hill-osborn-cahoon-cabin-open-speaker-tbd-16/
END:VEVENT
BEGIN:VEVENT
DTSTART;TZID=America/New_York:20261101T140000
DTEND;TZID=America/New_York:20261101T163000
DTSTAMP:20260419T193055
CREATED:20260327T195056Z
LAST-MODIFIED:20260403T145009Z
UID:8838-1793541600-1793550600@www.bayhistorical.com
SUMMARY:Rose Hill/Osborn Learning Center Open (Speaker: TBD)
DESCRIPTION:
URL:https://www.bayhistorical.com/event/rose-hill-osborn-cahoon-cabin-open-speaker-tbd-17/
END:VEVENT
BEGIN:VEVENT
DTSTART;TZID=America/New_York:20261108T140000
DTEND;TZID=America/New_York:20261108T163000
DTSTAMP:20260419T193055
CREATED:20260327T195123Z
LAST-MODIFIED:20260403T144959Z
UID:8840-1794146400-1794155400@www.bayhistorical.com
SUMMARY:Rose Hill/Osborn Learning Center Open (Speaker: TBD)
DESCRIPTION:
URL:https://www.bayhistorical.com/event/rose-hill-osborn-cahoon-cabin-open-speaker-tbd-18/
END:VEVENT
BEGIN:VEVENT
DTSTART;TZID=America/New_York:20261115T140000
DTEND;TZID=America/New_York:20261115T163000
DTSTAMP:20260419T193055
CREATED:20260327T195149Z
LAST-MODIFIED:20260403T144953Z
UID:8842-1794751200-1794760200@www.bayhistorical.com
SUMMARY:Rose Hill/Osborn Learning Center Open (Speaker: TBD)
DESCRIPTION:
URL:https://www.bayhistorical.com/event/rose-hill-osborn-cahoon-cabin-open-speaker-tbd-19/
END:VEVENT
BEGIN:VEVENT
DTSTART;TZID=America/New_York:20261122T080000
DTEND;TZID=America/New_York:20261122T170000
DTSTAMP:20260419T193055
CREATED:20260327T195224Z
LAST-MODIFIED:20260403T144947Z
UID:8844-1795334400-1795366800@www.bayhistorical.com
SUMMARY:Rose Hill/Osborn Learning Center Open (Speaker: TBD)
DESCRIPTION:
URL:https://www.bayhistorical.com/event/rose-hill-osborn-cahoon-cabin-open-speaker-tbd-20/
END:VEVENT
BEGIN:VEVENT
DTSTART;VALUE=DATE:20261129
DTEND;VALUE=DATE:20261130
DTSTAMP:20260419T193055
CREATED:20260327T195323Z
LAST-MODIFIED:20260327T195323Z
UID:8848-1795910400-1795996799@www.bayhistorical.com
SUMMARY:CLOSED FOR THANKSGIVING
DESCRIPTION:
URL:https://www.bayhistorical.com/event/closed-for-thanksgiving/
END:VEVENT
BEGIN:VEVENT
DTSTART;TZID=America/New_York:20261206T080000
DTEND;TZID=America/New_York:20261206T170000
DTSTAMP:20260419T193055
CREATED:20260327T195245Z
LAST-MODIFIED:20260403T144939Z
UID:8846-1796544000-1796576400@www.bayhistorical.com
SUMMARY:Rose Hill/Osborn Learning Center Open (Speaker: TBD)
DESCRIPTION:
URL:https://www.bayhistorical.com/event/rose-hill-osborn-cahoon-cabin-open-speaker-tbd-21/
END:VEVENT
BEGIN:VEVENT
DTSTART;TZID=America/New_York:20261213T140000
DTEND;TZID=America/New_York:20261213T163000
DTSTAMP:20260419T193055
CREATED:20260327T195403Z
LAST-MODIFIED:20260327T195403Z
UID:8850-1797170400-1797179400@www.bayhistorical.com
SUMMARY:Rose Hill/Osborn/Cahoon Cabin Open (Speaker: TBD)
DESCRIPTION:
URL:https://www.bayhistorical.com/event/rose-hill-osborn-cahoon-cabin-open-speaker-tbd-22/
END:VEVENT
BEGIN:VEVENT
DTSTART;TZID=America/New_York:20261220T140000
DTEND;TZID=America/New_York:20261220T163000
DTSTAMP:20260419T193055
CREATED:20260403T144657Z
LAST-MODIFIED:20260403T144657Z
UID:8895-1797775200-1797784200@www.bayhistorical.com
SUMMARY:Rose Hill/Osborn Learning Center Open (Speaker: TBD)
DESCRIPTION:
URL:https://www.bayhistorical.com/event/rose-hill-osborn-learning-center-open-speaker-tbd/
END:VEVENT
END:VCALENDAR