BEGIN:VCALENDAR
VERSION:2.0
PRODID:-// - ECPv6.15.20//NONSGML v1.0//EN
CALSCALE:GREGORIAN
METHOD:PUBLISH
X-ORIGINAL-URL:https://www.bayhistorical.com
X-WR-CALDESC:Events for 
REFRESH-INTERVAL;VALUE=DURATION:PT1H
X-Robots-Tag:noindex
X-PUBLISHED-TTL:PT1H
BEGIN:VTIMEZONE
TZID:America/New_York
BEGIN:DAYLIGHT
TZOFFSETFROM:-0500
TZOFFSETTO:-0400
TZNAME:EDT
DTSTART:20220313T070000
END:DAYLIGHT
BEGIN:STANDARD
TZOFFSETFROM:-0400
TZOFFSETTO:-0500
TZNAME:EST
DTSTART:20221106T060000
END:STANDARD
BEGIN:DAYLIGHT
TZOFFSETFROM:-0500
TZOFFSETTO:-0400
TZNAME:EDT
DTSTART:20230312T070000
END:DAYLIGHT
BEGIN:STANDARD
TZOFFSETFROM:-0400
TZOFFSETTO:-0500
TZNAME:EST
DTSTART:20231105T060000
END:STANDARD
BEGIN:DAYLIGHT
TZOFFSETFROM:-0500
TZOFFSETTO:-0400
TZNAME:EDT
DTSTART:20240310T070000
END:DAYLIGHT
BEGIN:STANDARD
TZOFFSETFROM:-0400
TZOFFSETTO:-0500
TZNAME:EST
DTSTART:20241103T060000
END:STANDARD
BEGIN:DAYLIGHT
TZOFFSETFROM:-0500
TZOFFSETTO:-0400
TZNAME:EDT
DTSTART:20250309T070000
END:DAYLIGHT
BEGIN:STANDARD
TZOFFSETFROM:-0400
TZOFFSETTO:-0500
TZNAME:EST
DTSTART:20251102T060000
END:STANDARD
END:VTIMEZONE
BEGIN:VEVENT
DTSTART;TZID=America/New_York:20230927T183000
DTEND;TZID=America/New_York:20230927T193000
DTSTAMP:20260420T163828
CREATED:20230911T161440Z
LAST-MODIFIED:20230911T161440Z
UID:5937-1695839400-1695843000@www.bayhistorical.com
SUMMARY:Launching of the Wischmeyer pram
DESCRIPTION:The formal launch of the Wischmeyer pram will be held on Wednesday\, September 27\, Henry Wischmeyer’s 151st birthday\, a fitting day to do it. \nWe will launch the boat at Huntington Beach at the far eastern end by Porter Creek. We will convene at 6:30 PM. Guests will have to park up top and walk down to the launch area.  We will have a ceremonial cake and refreshments for our guests.   \nPlease invite any interested parties. We welcome all enthusiasts. \nThis is a weather dependent event. If lake conditions are too rough or there is rain we will have to postpone. We can probably make an assessment 24 hrs. ahead of the launch time.
URL:https://www.bayhistorical.com/event/launching-of-the-wischmeyer-pram/
END:VEVENT
BEGIN:VEVENT
DTSTART;TZID=America/New_York:20230930T090000
DTEND;TZID=America/New_York:20230930T230000
DTSTAMP:20260420T163828
CREATED:20230426T021858Z
LAST-MODIFIED:20230926T195755Z
UID:5009-1696064400-1696114800@www.bayhistorical.com
SUMMARY:Hike to discover history
DESCRIPTION:Led by Stephanie West\, hikers will depart Reese Park on Clague at 9 a.m. and walk the east end of Lake Road to talk about the history of the area.
URL:https://www.bayhistorical.com/event/hike-to-discover-history/
END:VEVENT
BEGIN:VEVENT
DTSTART;TZID=America/New_York:20231001T140000
DTEND;TZID=America/New_York:20231001T163000
DTSTAMP:20260420T163828
CREATED:20230423T145458Z
LAST-MODIFIED:20230617T143811Z
UID:4958-1696168800-1696177800@www.bayhistorical.com
SUMMARY:Rose Hill Museum\, Osborn Learning Center open
DESCRIPTION:
URL:https://www.bayhistorical.com/event/rose-hill-museum-osborn-learning-center-open-51/
END:VEVENT
BEGIN:VEVENT
DTSTART;TZID=America/New_York:20231008T140000
DTEND;TZID=America/New_York:20231008T163000
DTSTAMP:20260420T163828
CREATED:20230423T145548Z
LAST-MODIFIED:20230617T143804Z
UID:4960-1696773600-1696782600@www.bayhistorical.com
SUMMARY:Rose Hill Museum\, Osborn Learning Center open
DESCRIPTION:
URL:https://www.bayhistorical.com/event/rose-hill-museum-osborn-learning-center-open-52/
END:VEVENT
BEGIN:VEVENT
DTSTART;TZID=America/New_York:20231010T100000
DTEND;TZID=America/New_York:20231010T120000
DTSTAMP:20260420T163828
CREATED:20230426T022038Z
LAST-MODIFIED:20230924T202513Z
UID:5012-1696932000-1696939200@www.bayhistorical.com
SUMMARY:History hike
DESCRIPTION:Led by Stephanie West\, the group will take a three-mile hike to discover Bay Village history.
URL:https://www.bayhistorical.com/event/history-hike/
END:VEVENT
BEGIN:VEVENT
DTSTART;TZID=America/New_York:20231015T140000
DTEND;TZID=America/New_York:20231015T163000
DTSTAMP:20260420T163828
CREATED:20230423T145613Z
LAST-MODIFIED:20230617T143754Z
UID:4962-1697378400-1697387400@www.bayhistorical.com
SUMMARY:Rose Hill Museum\, Osborn Learning Center open
DESCRIPTION:
URL:https://www.bayhistorical.com/event/rose-hill-museum-osborn-learning-center-open-53/
END:VEVENT
BEGIN:VEVENT
DTSTART;TZID=America/New_York:20231022T140000
DTEND;TZID=America/New_York:20231022T163000
DTSTAMP:20260420T163828
CREATED:20230423T145637Z
LAST-MODIFIED:20230617T143747Z
UID:4964-1697983200-1697992200@www.bayhistorical.com
SUMMARY:Rose Hill Museum\, Osborn Learning Center open
DESCRIPTION:
URL:https://www.bayhistorical.com/event/rose-hill-museum-osborn-learning-center-open-54/
END:VEVENT
BEGIN:VEVENT
DTSTART;TZID=America/New_York:20231029T140000
DTEND;TZID=America/New_York:20231029T163000
DTSTAMP:20260420T163828
CREATED:20230423T145703Z
LAST-MODIFIED:20230617T143737Z
UID:4966-1698588000-1698597000@www.bayhistorical.com
SUMMARY:Rose Hill Museum\, Osborn Learning Center open
DESCRIPTION:
URL:https://www.bayhistorical.com/event/rose-hill-museum-osborn-learning-center-open-55/
END:VEVENT
BEGIN:VEVENT
DTSTART;TZID=America/New_York:20231105T140000
DTEND;TZID=America/New_York:20231105T163000
DTSTAMP:20260420T163828
CREATED:20230423T145734Z
LAST-MODIFIED:20230617T143730Z
UID:4968-1699192800-1699201800@www.bayhistorical.com
SUMMARY:Rose Hill Museum\, Osborn Learning Center open
DESCRIPTION:
URL:https://www.bayhistorical.com/event/rose-hill-museum-osborn-learning-center-open-56/
END:VEVENT
BEGIN:VEVENT
DTSTART;TZID=America/New_York:20231112T140000
DTEND;TZID=America/New_York:20231112T163000
DTSTAMP:20260420T163828
CREATED:20230423T145800Z
LAST-MODIFIED:20230617T143722Z
UID:4970-1699797600-1699806600@www.bayhistorical.com
SUMMARY:Rose Hill Museum\, Osborn Learning Center open
DESCRIPTION:
URL:https://www.bayhistorical.com/event/rose-hill-museum-osborn-learning-center-open-57/
END:VEVENT
BEGIN:VEVENT
DTSTART;TZID=America/New_York:20231116T180000
DTEND;TZID=America/New_York:20231116T200000
DTSTAMP:20260420T163828
CREATED:20230926T203135Z
LAST-MODIFIED:20230926T203135Z
UID:6269-1700157600-1700164800@www.bayhistorical.com
SUMMARY:General Membership Meeting
DESCRIPTION:Bay Lodge\, 492 Bradley Road\nSocial 6:00 p.m.\, Potluck 6:30 p.m.\, Program 7:00 p.m.\nBring a dish for 10 to share and full place setting for yourself.\n$10 for non members. RSVP to Holly Tramba\, 440-537-1581 or email htramba@sbcglobal.net by November 9th.
URL:https://www.bayhistorical.com/event/general-membership-meeting/
LOCATION:Bay Lodge\, 492 Bradley Road\, Bay Village\, OH\, 44140\, United States
END:VEVENT
BEGIN:VEVENT
DTSTART;TZID=America/New_York:20231119T140000
DTEND;TZID=America/New_York:20231119T163000
DTSTAMP:20260420T163828
CREATED:20230423T145831Z
LAST-MODIFIED:20230617T143714Z
UID:4972-1700402400-1700411400@www.bayhistorical.com
SUMMARY:Rose Hill Museum\, Osborn Learning Center open
DESCRIPTION:
URL:https://www.bayhistorical.com/event/rose-hill-museum-osborn-learning-center-open-58/
END:VEVENT
BEGIN:VEVENT
DTSTART;VALUE=DATE:20231126
DTEND;VALUE=DATE:20231127
DTSTAMP:20260420T163828
CREATED:20230423T145902Z
LAST-MODIFIED:20230617T143706Z
UID:4974-1700956800-1701043199@www.bayhistorical.com
SUMMARY:Rose Hill Museum\, Osborn Learning Center closed for the holiday
DESCRIPTION:
URL:https://www.bayhistorical.com/event/rose-hill-museum-osborn-learning-center-closed-for-the-holiday-3/
END:VEVENT
BEGIN:VEVENT
DTSTART;TZID=America/New_York:20231203T140000
DTEND;TZID=America/New_York:20231203T163000
DTSTAMP:20260420T163828
CREATED:20230423T150023Z
LAST-MODIFIED:20231201T155755Z
UID:4976-1701612000-1701621000@www.bayhistorical.com
SUMMARY:Cahoon Christmas at Rose Hill Museum\, Osborn Learning Center open; Santa rides!
DESCRIPTION:Santa Claus will be touring Bay Village aboard a fire truck from 2 p.m. to 4:30 p.m.\, where he will help light the city’s holiday tree at the Cahoon Memorial Park gazebo. \nCahoon Christmas 2023 performances and demonstrations for December 3rd include: \n3:00 p.m. The Bay High Choraleers\, followed by a reading of “‘Twas the Night Before Christmas” \nThere will be spinning and weaving demonstrations every day the museum is open. The Medina Spinning and Weaving Guild\, the Lorain County Spinners and Weavers and the Crooked River Rug Hookers will be leading these demonstrations. See the 1830’s loom and purchase items woven on it! \nRose Hill Museum will be beautifully decorated for the holiday season with pathway luminaries and docents greeting you in vintage clothing. This year’s display will highlight White House Christmas cards designed by artist and Bay Village native Thomas William Jones\, along with other Bay Village scenes. \nPartake in the Nutcracker Scavenger Hunt and win a special Christmas treat! \nThe Rose Hill Museum store will be open with special holiday gifts available.
URL:https://www.bayhistorical.com/event/rose-hill-museum-osborn-learning-center-open-59/
END:VEVENT
BEGIN:VEVENT
DTSTART;TZID=America/New_York:20231206T160000
DTEND;TZID=America/New_York:20231206T190000
DTSTAMP:20260420T163828
CREATED:20231024T010212Z
LAST-MODIFIED:20231201T153945Z
UID:7196-1701878400-1701889200@www.bayhistorical.com
SUMMARY:Cahoon Christmas at Rose Hill Museum
DESCRIPTION:Since the museum is decorated so beautifully\, we thought we’d be open on Wednesdays in December! \nRose Hill Museum will be beautifully decorated for the holiday season with pathway luminaries and docents greeting you in vintage clothing. This year’s display will highlight  White House Christmas cards designed by artist and Bay Village native Thomas William Jones\, along with other Bay Village scenes. \nEnjoy a reading of “‘Twas the Night Before Christmas” and partake in the Nutcracker Scavenger Hunt to win a special Christmas treat! \nThere will be spinning and weaving demonstrations every day the museum is open. The Medina Spinning and Weaving Guild\, the Lorain County Spinners and Weavers and the Crooked River Rug Hookers will be leading these demonstrations. See the 1830’s loom and purchase items woven on it. \nThe museum gift shop will be open for holiday purchases. This is also an opportunity to see the newly constructed working model of the Cahoon family 1813 gristmill.
URL:https://www.bayhistorical.com/event/rose-hill-museum-open-for-christmas/
END:VEVENT
BEGIN:VEVENT
DTSTART;TZID=America/New_York:20231210T140000
DTEND;TZID=America/New_York:20231210T163000
DTSTAMP:20260420T163828
CREATED:20230423T150051Z
LAST-MODIFIED:20231207T190545Z
UID:4978-1702216800-1702225800@www.bayhistorical.com
SUMMARY:Cahoon Christmas at Rose Hill Museum\, Osborn Learning Center open; photos with Santa Claus!
DESCRIPTION:Santa Claus will be available for photos in an antique sleigh in front of the Rose Hill Museum from 2 p.m. to 4 p.m. A donation of $20 is requested for online sign up (on our Events/Cahoon Christmas 2023 page) or $25 cash on the day of the event. DUE TO ANTICIPATED INCLIMATE WEATHER\, SANTA WILL NOW BE TAKING PHOTOS IN THE COUNTRY KITCHEN\, IN FRONT OF THE FIREPLACE. \nCahoon Christmas 2023 performances and demonstrations for December 10th include:\n2:30 p.m. Bay Middle School Orchestra\, followed by a reading of “‘Twas the Night Before Christmas”\nSpinning and loom demonstrations. \nRose Hill Museum will be beautifully decorated for the holiday season with pathway luminaries and docents greeting you in vintage clothing. \nThis year’s display will highlight White House Christmas cards designed by artist and Bay Village native Thomas William Jones\, along with other Bay Village scenes. \nPartake in the Nutcracker Scavenger Hunt and win a special Christmas treat! \nThe Rose Hill Museum store will be open with special holiday gifts available. \nThis is also an opportunity to see the newly constructed working model of the Cahoon family 1813 gristmill. \n 
URL:https://www.bayhistorical.com/event/rose-hill-museum-osborn-learning-center-open-60/
END:VEVENT
BEGIN:VEVENT
DTSTART;TZID=America/New_York:20231213T160000
DTEND;TZID=America/New_York:20231213T190000
DTSTAMP:20260420T163828
CREATED:20231024T010250Z
LAST-MODIFIED:20231201T160122Z
UID:7198-1702483200-1702494000@www.bayhistorical.com
SUMMARY:Cahoon Christmas at Rose Hill Museum
DESCRIPTION:Rose Hill Museum will be beautifully decorated for the holiday season with pathway luminaries and docents greeting you in vintage clothing. This year’s display will highlight the White House Christmas cards designed by artist and Bay Village native Thomas William Jones\, along with other Bay Village scenes. \nCahoon Christmas 2023 performances and demonstrations for December 13th include: \n4:15 p.m. Bay High School String Quartet\n6:00 – 7:00 p.m. Rachel Boettler\, flute\n6:00 p.m. “’Twas the Night Before Christmas\,” read by Preston Postle.\nSpinning and loom demonstrations. \nPartake in the Nutcracker Scavenger Hunt and win a special Christmas treat! \nThe Rose Hill Museum store will be open with special holiday gifts available.
URL:https://www.bayhistorical.com/event/rose-hill-museum-open-for-christmas-2/
END:VEVENT
BEGIN:VEVENT
DTSTART;TZID=America/New_York:20231217T140000
DTEND;TZID=America/New_York:20231217T163000
DTSTAMP:20260420T163828
CREATED:20230423T150121Z
LAST-MODIFIED:20231201T160212Z
UID:4980-1702821600-1702830600@www.bayhistorical.com
SUMMARY:Cahoon Christmas at Rose Hill Museum\, Osborn Learning Center open
DESCRIPTION:Rose Hill Museum will be beautifully decorated for the holiday season with pathway luminaries and docents greeting you in vintage clothing. \nThis year’s display will highlight White House Christmas cards designed by artist and Bay Village native Thomas William Jones\, along with other Bay Village scenes. \nCahoon Christmas 2023 performances and demonstrations for December 17th include:\n3:45 p.m. “‘Twas the Night Before Christmas\,” read by Preston Postle\nSpinning and loom demonstrations. \nPartake in the Nutcracker Scavenger Hunt and win a special Christmas treat! \nThe Rose Hill Museum store will be open with special holiday gifts available.
URL:https://www.bayhistorical.com/event/rose-hill-museum-osborn-learning-center-open-61/
END:VEVENT
BEGIN:VEVENT
DTSTART;TZID=America/New_York:20231220T160000
DTEND;TZID=America/New_York:20231220T190000
DTSTAMP:20260420T163828
CREATED:20231024T010338Z
LAST-MODIFIED:20231201T160246Z
UID:7200-1703088000-1703098800@www.bayhistorical.com
SUMMARY:Cahoon Christmas at Rose Hill Museum
DESCRIPTION:Since the museum is decorated so beautifully\, we thought we’d be open on Wednesdays in December! \nRose Hill Museum will be beautifully decorated for the holiday season. This year’s display will highlight the White House Christmas cards designed by artist and Bay Village native Thomas William Jones\, along with other Bay Village scenes. \nCahoon Christmas 2023 performances and demonstrations for December 20th include:\n4:00 – 5:00 p.m. Rachel Boettler\, flute\n6:00 p.m. “‘Twas the Night Before Christmas\,” read by Preston Postle\nSpinning and loom demonstrations. \nPartake in the Nutcracker Scavenger Hunt and win a special Christmas treat! \nThe Rose Hill Museum store will be open with special holiday gifts available. \nThis is also an opportunity to see the newly constructed working model of the Cahoon family 1813 gristmill. \n  \n 
URL:https://www.bayhistorical.com/event/rose-hill-museum-open-for-christmas-3/
END:VEVENT
BEGIN:VEVENT
DTSTART;VALUE=DATE:20231224
DTEND;VALUE=DATE:20231225
DTSTAMP:20260420T163828
CREATED:20230423T150159Z
LAST-MODIFIED:20230617T143609Z
UID:4982-1703376000-1703462399@www.bayhistorical.com
SUMMARY:Rose Hill Museum\, Osborn Learning Center closed until April 2024
DESCRIPTION:
URL:https://www.bayhistorical.com/event/rose-hill-museum-osborn-learning-center-closed-until-april-2024/
END:VEVENT
BEGIN:VEVENT
DTSTART;TZID=America/New_York:20240215T180000
DTEND;TZID=America/New_York:20240215T200000
DTSTAMP:20260420T163828
CREATED:20240116T032805Z
LAST-MODIFIED:20240212T182903Z
UID:8070-1708020000-1708027200@www.bayhistorical.com
SUMMARY:Potluck supper
DESCRIPTION:Join us at the Bay Lodge\, 492 Bradley Road\, at 6 p.m. for a social hour\, dinner at 6:30 p.m.\, and then a guest speaker who will talk on the life and times of Ida Cahoon. $10 at the door for non-members. BYO dishware and cutlery.
URL:https://www.bayhistorical.com/event/potluck-supper-2/
END:VEVENT
BEGIN:VEVENT
DTSTART;TZID=America/New_York:20240307T120000
DTEND;TZID=America/New_York:20240307T133000
DTSTAMP:20260420T163828
CREATED:20240318T154647Z
LAST-MODIFIED:20240318T154647Z
UID:8108-1709812800-1709818200@www.bayhistorical.com
SUMMARY:Presentation on current state of the Bay Village Historical Society
DESCRIPTION:Treasurer Eric Eakin and Trustee Diane Pavan will give a state of the historical society talk to women from the Methodist churches in the area.
URL:https://www.bayhistorical.com/event/presentation-on-current-state-of-the-bay-village-historical-society/
END:VEVENT
BEGIN:VEVENT
DTSTART;TZID=America/New_York:20240404T190000
DTEND;TZID=America/New_York:20240404T200000
DTSTAMP:20260420T163828
CREATED:20240318T154851Z
LAST-MODIFIED:20240318T155406Z
UID:8110-1712257200-1712260800@www.bayhistorical.com
SUMMARY:"Gardens and Beyond in Colonial Times"
DESCRIPTION:President Cathy Flament will give a presentation to the Avon Historical Society on gardening over the years
URL:https://www.bayhistorical.com/event/gardens-and-beyond-in-colonial-times/
LOCATION:36995 Detroit Rd.\, Avon\, Ohio
END:VEVENT
BEGIN:VEVENT
DTSTART;TZID=America/New_York:20240428T140000
DTEND;TZID=America/New_York:20240428T163000
DTSTAMP:20260420T163828
CREATED:20240424T015434Z
LAST-MODIFIED:20240426T153028Z
UID:8160-1714312800-1714321800@www.bayhistorical.com
SUMMARY:Rose Hill museum opens for the season
DESCRIPTION:Head into spring with a “Hat Extravaganza” at Rose Hill Museum in Bay Village. \nThe season’s opening exhibit\, coordinated by the Bay Village Historical Society\, features hats from the collection of longtime Bay Village resident Ann DiBenedetto\, owner of Heady Lady Millinery. Ann had a great love of fashion and hats. She began her fashion hat shows in Cleveland\, as well as Palm Beach and Boca Raton\, Fla. Even presidents and first ladies wore her hats. Ann had a personal collection of more than 500 hats and collected many stories to go along with them. \n“Hat Extravaganza” opens on Apr. 29 and continues through the spring and summer. Admission is free of charge every Sunday from 2 p.m. to 4:30 p.m. Group tours can be arranged. Rose Hill Museum is at 27715 Lake Rd. in Bay Village. The museum’s Victorian Parlor has recently undergone major renovations and everyone is invited to stop by to take a look at the beautiful updates.
URL:https://www.bayhistorical.com/event/rose-hill-museum-opens-for-the-season/
END:VEVENT
BEGIN:VEVENT
DTSTART;TZID=America/New_York:20240505T140000
DTEND;TZID=America/New_York:20240505T163000
DTSTAMP:20260420T163828
CREATED:20240426T152645Z
LAST-MODIFIED:20240426T153510Z
UID:8168-1714917600-1714926600@www.bayhistorical.com
SUMMARY:Rose Hill museum\, Osborn Learning Center open
DESCRIPTION:Head into spring with a “Hat Extravaganza” at Rose Hill Museum in Bay Village. \nThe season’s opening exhibit\, coordinated by the Bay Village Historical Society\, features hats from the collection of longtime Bay Village resident Ann DiBenedetto\, owner of Heady Lady Millinery. Ann had a great love of fashion and hats. She began her fashion hat shows in Cleveland\, as well as Palm Beach and Boca Raton\, Fla. Even presidents and first ladies wore her hats. Ann had a personal collection of more than 500 hats and collected many stories to go along with them. \n“Hat Extravaganza” opens on Apr. 29 and continues through the spring and summer. Admission is free of charge every Sunday from 2 p.m. to 4:30 p.m. Group tours can be arranged. Rose Hill Museum is at 27715 Lake Rd. in Bay Village. The museum’s Victorian Parlor has recently undergone major renovations and everyone is invited to stop by to take a look at the beautiful updates.
URL:https://www.bayhistorical.com/event/rose-hill-museum-osborn-learning-center-open-62/
END:VEVENT
BEGIN:VEVENT
DTSTART;TZID=America/New_York:20240512T140000
DTEND;TZID=America/New_York:20240512T163000
DTSTAMP:20260420T163828
CREATED:20240426T152713Z
LAST-MODIFIED:20240426T160334Z
UID:8170-1715522400-1715531400@www.bayhistorical.com
SUMMARY:Rose Hill museum\, Osborn Learning Center closed for Mother's Day
DESCRIPTION:
URL:https://www.bayhistorical.com/event/rose-hill-museum-osborn-learning-center-open-63/
END:VEVENT
BEGIN:VEVENT
DTSTART;TZID=America/New_York:20240516T180000
DTEND;TZID=America/New_York:20240516T200000
DTSTAMP:20260420T163828
CREATED:20240424T020357Z
LAST-MODIFIED:20240426T153347Z
UID:8162-1715882400-1715889600@www.bayhistorical.com
SUMMARY:General membership meeting and potluck supper
DESCRIPTION:The quarterly potluck supper and annual business meeting of the Bay Village Historical Society will take place this evening. President Cathy Flament will give a presentation on gardening over the years.
URL:https://www.bayhistorical.com/event/general-membership-meeting-and-potluck-supper/
END:VEVENT
BEGIN:VEVENT
DTSTART;TZID=America/New_York:20240519T140000
DTEND;TZID=America/New_York:20240519T163000
DTSTAMP:20260420T163828
CREATED:20240426T153135Z
LAST-MODIFIED:20240426T153524Z
UID:8182-1716127200-1716136200@www.bayhistorical.com
SUMMARY:Rose Hill Museum\, Osborn Learning Center open
DESCRIPTION:Head into spring with a “Hat Extravaganza” at Rose Hill Museum in Bay Village. \nThe season’s opening exhibit\, coordinated by the Bay Village Historical Society\, features hats from the collection of longtime Bay Village resident Ann DiBenedetto\, owner of Heady Lady Millinery. Ann had a great love of fashion and hats. She began her fashion hat shows in Cleveland\, as well as Palm Beach and Boca Raton\, Fla. Even presidents and first ladies wore her hats. Ann had a personal collection of more than 500 hats and collected many stories to go along with them. \n“Hat Extravaganza” opens on Apr. 29 and continues through the spring and summer. Admission is free of charge every Sunday from 2 p.m. to 4:30 p.m. Group tours can be arranged. Rose Hill Museum is at 27715 Lake Rd. in Bay Village. The museum’s Victorian Parlor has recently undergone major renovations and everyone is invited to stop by to take a look at the beautiful updates.
URL:https://www.bayhistorical.com/event/rose-hill-museum-osborn-learning-center-open-64/
END:VEVENT
BEGIN:VEVENT
DTSTART;TZID=America/New_York:20240520T190000
DTEND;TZID=America/New_York:20240520T200000
DTSTAMP:20260420T163828
CREATED:20240318T155005Z
LAST-MODIFIED:20240426T153223Z
UID:8112-1716231600-1716235200@www.bayhistorical.com
SUMMARY:Presentation on Bay Village history
DESCRIPTION:Test how well you know your city’s local history. Local historians Cathy Flament and Eric Eakin will see how much you know about regional history.
URL:https://www.bayhistorical.com/event/presentation-on-bay-village-history/
LOCATION:Bay Village branch of the Cuyahoga County library
END:VEVENT
BEGIN:VEVENT
DTSTART;TZID=America/New_York:20240526T080000
DTEND;TZID=America/New_York:20240526T170000
DTSTAMP:20260420T163828
CREATED:20240426T152811Z
LAST-MODIFIED:20240426T152811Z
UID:8174-1716710400-1716742800@www.bayhistorical.com
SUMMARY:Rose Hill museum\, Osborn Learning Center closed for holiday
DESCRIPTION:
URL:https://www.bayhistorical.com/event/rose-hill-museum-osborn-learning-center-closed-for-holiday/
END:VEVENT
END:VCALENDAR