BEGIN:VCALENDAR
VERSION:2.0
PRODID:-// - ECPv6.15.20//NONSGML v1.0//EN
CALSCALE:GREGORIAN
METHOD:PUBLISH
X-ORIGINAL-URL:https://www.bayhistorical.com
X-WR-CALDESC:Events for 
REFRESH-INTERVAL;VALUE=DURATION:PT1H
X-Robots-Tag:noindex
X-PUBLISHED-TTL:PT1H
BEGIN:VTIMEZONE
TZID:America/New_York
BEGIN:DAYLIGHT
TZOFFSETFROM:-0500
TZOFFSETTO:-0400
TZNAME:EDT
DTSTART:20240310T070000
END:DAYLIGHT
BEGIN:STANDARD
TZOFFSETFROM:-0400
TZOFFSETTO:-0500
TZNAME:EST
DTSTART:20241103T060000
END:STANDARD
BEGIN:DAYLIGHT
TZOFFSETFROM:-0500
TZOFFSETTO:-0400
TZNAME:EDT
DTSTART:20250309T070000
END:DAYLIGHT
BEGIN:STANDARD
TZOFFSETFROM:-0400
TZOFFSETTO:-0500
TZNAME:EST
DTSTART:20251102T060000
END:STANDARD
BEGIN:DAYLIGHT
TZOFFSETFROM:-0500
TZOFFSETTO:-0400
TZNAME:EDT
DTSTART:20260308T070000
END:DAYLIGHT
BEGIN:STANDARD
TZOFFSETFROM:-0400
TZOFFSETTO:-0500
TZNAME:EST
DTSTART:20261101T060000
END:STANDARD
BEGIN:DAYLIGHT
TZOFFSETFROM:-0500
TZOFFSETTO:-0400
TZNAME:EDT
DTSTART:20270314T070000
END:DAYLIGHT
BEGIN:STANDARD
TZOFFSETFROM:-0400
TZOFFSETTO:-0500
TZNAME:EST
DTSTART:20271107T060000
END:STANDARD
END:VTIMEZONE
BEGIN:VEVENT
DTSTART;TZID=America/New_York:20260416T100000
DTEND;TZID=America/New_York:20260416T113000
DTSTAMP:20260419T161031
CREATED:20260416T154730Z
LAST-MODIFIED:20260416T154730Z
UID:8974-1776333600-1776339000@www.bayhistorical.com
SUMMARY:Private Tour
DESCRIPTION:Private event not open to the public.
URL:https://www.bayhistorical.com/event/private-tour-8/
END:VEVENT
BEGIN:VEVENT
DTSTART;TZID=America/New_York:20260415T150000
DTEND;TZID=America/New_York:20260415T160000
DTSTAMP:20260419T161031
CREATED:20260401T190401Z
LAST-MODIFIED:20260415T141833Z
UID:8857-1776265200-1776268800@www.bayhistorical.com
SUMMARY:Private Tour
DESCRIPTION:Private event\, not open to the public.
URL:https://www.bayhistorical.com/event/private-tour/
END:VEVENT
BEGIN:VEVENT
DTSTART;TZID=America/New_York:20260412T140000
DTEND;TZID=America/New_York:20260412T163000
DTSTAMP:20260419T161031
CREATED:20260309T184810Z
LAST-MODIFIED:20260401T185830Z
UID:8694-1776002400-1776011400@www.bayhistorical.com
SUMMARY:Osborn Learning Center Grand Reopening! Rose Hill/Osborn/Cahoon Cabin Open
DESCRIPTION:Join us for the reopening of the Osborn Learning Center and Rose Hill Museum\, featuring several brand-new exhibits after an off-season of remodeling. There’s something for everyone here at the Bay Village Historical Society.
URL:https://www.bayhistorical.com/event/osborn-learning-center-rose-hill-museum-grand-re-opening/
END:VEVENT
BEGIN:VEVENT
DTSTART;VALUE=DATE:20251228
DTEND;VALUE=DATE:20251229
DTSTAMP:20260419T161031
CREATED:20250430T201114Z
LAST-MODIFIED:20251109T154003Z
UID:8535-1766880000-1766966399@www.bayhistorical.com
SUMMARY:Rose Hill museum\, Osborn Learning Center\, Cahoon memorial cabin closed until April 2026
DESCRIPTION:
URL:https://www.bayhistorical.com/event/rose-hill-museum-osborn-learning-center-cahoon-memorial-cabin-closed-until-april-2026/
END:VEVENT
BEGIN:VEVENT
DTSTART;TZID=America/New_York:20251221T140000
DTEND;TZID=America/New_York:20251221T163000
DTSTAMP:20260419T161031
CREATED:20250430T201022Z
LAST-MODIFIED:20251130T232035Z
UID:8533-1766325600-1766334600@www.bayhistorical.com
SUMMARY:Rose Hill museum\, Osborn Learning Center open
DESCRIPTION:
URL:https://www.bayhistorical.com/event/rose-hill-museum-osborn-learning-center-cahoon-memorial-cabin-open-31/
END:VEVENT
BEGIN:VEVENT
DTSTART;TZID=America/New_York:20251220T140000
DTEND;TZID=America/New_York:20251220T163000
DTSTAMP:20260419T161031
CREATED:20251109T153802Z
LAST-MODIFIED:20251109T153802Z
UID:8567-1766239200-1766248200@www.bayhistorical.com
SUMMARY:Rose Hill Museum open and decorated for the holidays
DESCRIPTION:Rose Hill Museum will be beautifully decorated for the holiday season. There will be a model train display. Rose Hill Museum will be open free of charge on Sundays\, Dec. 7\, 14\, and 21\, from 2 p.m. to 4:30 p.m. and on Saturdays\, Dec. 6\, 13\, and 20\, from 2 p.m. to 4:30 p.m. Museum guides will be dressed in period costumes.
URL:https://www.bayhistorical.com/event/rose-hill-museum-open-and-decorated-for-the-holidays-2/
END:VEVENT
BEGIN:VEVENT
DTSTART;TZID=America/New_York:20251214T140000
DTEND;TZID=America/New_York:20251214T163000
DTSTAMP:20260419T161031
CREATED:20250430T200956Z
LAST-MODIFIED:20251130T232019Z
UID:8531-1765720800-1765729800@www.bayhistorical.com
SUMMARY:Rose Hill museum\, Osborn Learning Center open
DESCRIPTION:
URL:https://www.bayhistorical.com/event/rose-hill-museum-osborn-learning-center-cahoon-memorial-cabin-open-30/
END:VEVENT
BEGIN:VEVENT
DTSTART;TZID=America/New_York:20251213T140000
DTEND;TZID=America/New_York:20251213T163000
DTSTAMP:20260419T161031
CREATED:20251109T153726Z
LAST-MODIFIED:20251109T153726Z
UID:8565-1765634400-1765643400@www.bayhistorical.com
SUMMARY:Rose Hill Museum open and decorated for the holidays
DESCRIPTION:Rose Hill Museum will be beautifully decorated for the holiday season. There will be a model train display. Rose Hill Museum will be open free of charge on Sundays\, Dec. 7\, 14\, and 21\, from 2 p.m. to 4:30 p.m. and on Saturdays\, Dec. 6\, 13\, and 20\, from 2 p.m. to 4:30 p.m. Museum guides will be dressed in period costumes.
URL:https://www.bayhistorical.com/event/rose-hill-museum-open-and-decorated-for-the-holidays/
END:VEVENT
BEGIN:VEVENT
DTSTART;TZID=America/New_York:20251207T140000
DTEND;TZID=America/New_York:20251207T163000
DTSTAMP:20260419T161031
CREATED:20250430T200927Z
LAST-MODIFIED:20251109T153925Z
UID:8529-1765116000-1765125000@www.bayhistorical.com
SUMMARY:Rose Hill museum open and decorated for the holidays
DESCRIPTION:Mr. and Mrs. Santa Claus will tour Bay Village aboard a fire truck. They depart at 2 p.m. from the Bay Lodge and will light the city’s holiday tree in the Cahoon Memorial Park gazebo about 4:30 p.m.
URL:https://www.bayhistorical.com/event/rose-hill-museum-osborn-learning-center-cahoon-memorial-cabin-open-santa-claus-arrives/
END:VEVENT
BEGIN:VEVENT
DTSTART;TZID=America/New_York:20251207T020000
DTEND;TZID=America/New_York:20251207T163000
DTSTAMP:20260419T161031
CREATED:20251109T153457Z
LAST-MODIFIED:20251109T153457Z
UID:8560-1765072800-1765125000@www.bayhistorical.com
SUMMARY:Mr. and Mrs. Santa Claus ride through Bay Village
DESCRIPTION:
URL:https://www.bayhistorical.com/event/mr-and-mrs-santa-claus-ride-through-bay-village/
END:VEVENT
BEGIN:VEVENT
DTSTART;TZID=America/New_York:20251206T140000
DTEND;TZID=America/New_York:20251206T163000
DTSTAMP:20260419T161031
CREATED:20251109T153646Z
LAST-MODIFIED:20251109T153937Z
UID:8563-1765029600-1765038600@www.bayhistorical.com
SUMMARY:Rose Hill Museum decorated and open for the holidays
DESCRIPTION:Rose Hill Museum will be beautifully decorated for the holiday season. There will be a model train display. Rose Hill Museum will be open free of charge on Sundays\, Dec. 7\, 14\, and 21\, from 2 p.m. to 4:30 p.m. and on Saturdays\, Dec. 6\, 13\, and 20\, from 2 p.m. to 4:30 p.m. Museum guides will be dressed in period costumes.
URL:https://www.bayhistorical.com/event/rose-hill-museum-decorated-and-open/
END:VEVENT
BEGIN:VEVENT
DTSTART;VALUE=DATE:20251130
DTEND;VALUE=DATE:20251201
DTSTAMP:20260419T161031
CREATED:20250430T200743Z
LAST-MODIFIED:20250430T200743Z
UID:8527-1764460800-1764547199@www.bayhistorical.com
SUMMARY:Rose Hill museum\, Osborn Learning Center\, Cahoon memorial cabin closed for Thanksgiving
DESCRIPTION:
URL:https://www.bayhistorical.com/event/rose-hill-museum-osborn-learning-center-cahoon-memorial-cabin-closed-for-thanksgiving/
END:VEVENT
BEGIN:VEVENT
DTSTART;TZID=America/New_York:20251123T140000
DTEND;TZID=America/New_York:20251123T163000
DTSTAMP:20260419T161031
CREATED:20250430T200712Z
LAST-MODIFIED:20250430T200712Z
UID:8525-1763906400-1763915400@www.bayhistorical.com
SUMMARY:Rose Hill museum\, Osborn Learning Center\, Cahoon memorial cabin open
DESCRIPTION:
URL:https://www.bayhistorical.com/event/rose-hill-museum-osborn-learning-center-cahoon-memorial-cabin-open-29/
END:VEVENT
BEGIN:VEVENT
DTSTART;TZID=America/New_York:20251116T140000
DTEND;TZID=America/New_York:20251116T163000
DTSTAMP:20260419T161031
CREATED:20250430T200639Z
LAST-MODIFIED:20250430T200639Z
UID:8523-1763301600-1763310600@www.bayhistorical.com
SUMMARY:Rose Hill museum\, Osborn Learning Center\, Cahoon memorial cabin open
DESCRIPTION:
URL:https://www.bayhistorical.com/event/rose-hill-museum-osborn-learning-center-cahoon-memorial-cabin-open-28/
END:VEVENT
BEGIN:VEVENT
DTSTART;TZID=America/New_York:20251109T140000
DTEND;TZID=America/New_York:20251109T163000
DTSTAMP:20260419T161031
CREATED:20250430T200608Z
LAST-MODIFIED:20250430T200608Z
UID:8521-1762696800-1762705800@www.bayhistorical.com
SUMMARY:Rose Hill museum\, Osborn Learning Center\, Cahoon memorial cabin open
DESCRIPTION:
URL:https://www.bayhistorical.com/event/rose-hill-museum-osborn-learning-center-cahoon-memorial-cabin-open-27/
END:VEVENT
BEGIN:VEVENT
DTSTART;TZID=America/New_York:20251102T140000
DTEND;TZID=America/New_York:20251102T163000
DTSTAMP:20260419T161031
CREATED:20250430T200544Z
LAST-MODIFIED:20250430T200544Z
UID:8519-1762092000-1762101000@www.bayhistorical.com
SUMMARY:Rose Hill museum\, Osborn Learning Center\, Cahoon memorial cabin open
DESCRIPTION:
URL:https://www.bayhistorical.com/event/rose-hill-museum-osborn-learning-center-cahoon-memorial-cabin-open-26/
END:VEVENT
BEGIN:VEVENT
DTSTART;TZID=America/New_York:20251026T140000
DTEND;TZID=America/New_York:20251026T163000
DTSTAMP:20260419T161031
CREATED:20250430T200521Z
LAST-MODIFIED:20250430T200521Z
UID:8517-1761487200-1761496200@www.bayhistorical.com
SUMMARY:Rose Hill museum\, Osborn Learning Center\, Cahoon memorial cabin open
DESCRIPTION:
URL:https://www.bayhistorical.com/event/rose-hill-museum-osborn-learning-center-cahoon-memorial-cabin-open-25/
END:VEVENT
BEGIN:VEVENT
DTSTART;TZID=America/New_York:20251019T140000
DTEND;TZID=America/New_York:20251019T163000
DTSTAMP:20260419T161031
CREATED:20250430T200457Z
LAST-MODIFIED:20250430T200457Z
UID:8515-1760882400-1760891400@www.bayhistorical.com
SUMMARY:Rose Hill museum\, Osborn Learning Center\, Cahoon memorial cabin open
DESCRIPTION:
URL:https://www.bayhistorical.com/event/rose-hill-museum-osborn-learning-center-cahoon-memorial-cabin-open-24/
END:VEVENT
BEGIN:VEVENT
DTSTART;TZID=America/New_York:20251012T140000
DTEND;TZID=America/New_York:20251012T163000
DTSTAMP:20260419T161031
CREATED:20250430T200433Z
LAST-MODIFIED:20250430T200433Z
UID:8513-1760277600-1760286600@www.bayhistorical.com
SUMMARY:Rose Hill museum\, Osborn Learning Center\, Cahoon memorial cabin open
DESCRIPTION:
URL:https://www.bayhistorical.com/event/rose-hill-museum-osborn-learning-center-cahoon-memorial-cabin-open-23/
END:VEVENT
BEGIN:VEVENT
DTSTART;TZID=America/New_York:20251005T140000
DTEND;TZID=America/New_York:20251005T163000
DTSTAMP:20260419T161031
CREATED:20250430T200409Z
LAST-MODIFIED:20250430T200409Z
UID:8511-1759672800-1759681800@www.bayhistorical.com
SUMMARY:Rose Hill museum\, Osborn Learning Center\, Cahoon memorial cabin open
DESCRIPTION:
URL:https://www.bayhistorical.com/event/rose-hill-museum-osborn-learning-center-cahoon-memorial-cabin-open-22/
END:VEVENT
BEGIN:VEVENT
DTSTART;TZID=America/New_York:20250928T140000
DTEND;TZID=America/New_York:20250928T163000
DTSTAMP:20260419T161031
CREATED:20250430T200343Z
LAST-MODIFIED:20250430T200343Z
UID:8509-1759068000-1759077000@www.bayhistorical.com
SUMMARY:Rose Hill museum\, Osborn Learning Center\, Cahoon memorial cabin open
DESCRIPTION:
URL:https://www.bayhistorical.com/event/rose-hill-museum-osborn-learning-center-cahoon-memorial-cabin-open-21/
END:VEVENT
BEGIN:VEVENT
DTSTART;TZID=America/New_York:20250921T140000
DTEND;TZID=America/New_York:20250921T163000
DTSTAMP:20260419T161031
CREATED:20250430T200320Z
LAST-MODIFIED:20250430T200320Z
UID:8507-1758463200-1758472200@www.bayhistorical.com
SUMMARY:Rose Hill museum\, Osborn Learning Center\, Cahoon memorial cabin open
DESCRIPTION:
URL:https://www.bayhistorical.com/event/rose-hill-museum-osborn-learning-center-cahoon-memorial-cabin-open-20/
END:VEVENT
BEGIN:VEVENT
DTSTART;TZID=America/New_York:20250914T140000
DTEND;TZID=America/New_York:20250914T163000
DTSTAMP:20260419T161031
CREATED:20250430T200254Z
LAST-MODIFIED:20250430T200254Z
UID:8505-1757858400-1757867400@www.bayhistorical.com
SUMMARY:Rose Hill museum\, Osborn Learning Center\, Cahoon memorial cabin open
DESCRIPTION:
URL:https://www.bayhistorical.com/event/rose-hill-museum-osborn-learning-center-cahoon-memorial-cabin-open-19/
END:VEVENT
BEGIN:VEVENT
DTSTART;TZID=America/New_York:20250907T140000
DTEND;TZID=America/New_York:20250907T163000
DTSTAMP:20260419T161031
CREATED:20250430T200228Z
LAST-MODIFIED:20250430T200228Z
UID:8503-1757253600-1757262600@www.bayhistorical.com
SUMMARY:Rose Hill museum\, Osborn Learning Center\, Cahoon memorial cabin open
DESCRIPTION:
URL:https://www.bayhistorical.com/event/rose-hill-museum-osborn-learning-center-cahoon-memorial-cabin-open-18/
END:VEVENT
BEGIN:VEVENT
DTSTART;VALUE=DATE:20250831
DTEND;VALUE=DATE:20250901
DTSTAMP:20260419T161031
CREATED:20250430T200155Z
LAST-MODIFIED:20250430T200155Z
UID:8501-1756598400-1756684799@www.bayhistorical.com
SUMMARY:Rose Hill museum\, Osborn Learning Center\, Cahoon memorial cabin closed for Labor Day
DESCRIPTION:
URL:https://www.bayhistorical.com/event/rose-hill-museum-osborn-learning-center-cahoon-memorial-cabin-closed-for-labor-day/
END:VEVENT
BEGIN:VEVENT
DTSTART;TZID=America/New_York:20250824T140000
DTEND;TZID=America/New_York:20250824T163000
DTSTAMP:20260419T161031
CREATED:20250430T200054Z
LAST-MODIFIED:20250430T200054Z
UID:8499-1756044000-1756053000@www.bayhistorical.com
SUMMARY:Rose Hill museum\, Osborn Learning Center\, Cahoon memorial cabin open
DESCRIPTION:
URL:https://www.bayhistorical.com/event/rose-hill-museum-osborn-learning-center-cahoon-memorial-cabin-open-17/
END:VEVENT
BEGIN:VEVENT
DTSTART;TZID=America/New_York:20250817T140000
DTEND;TZID=America/New_York:20250817T163000
DTSTAMP:20260419T161031
CREATED:20250430T200030Z
LAST-MODIFIED:20250430T200030Z
UID:8497-1755439200-1755448200@www.bayhistorical.com
SUMMARY:Rose Hill museum\, Osborn Learning Center\, Cahoon memorial cabin open
DESCRIPTION:
URL:https://www.bayhistorical.com/event/rose-hill-museum-osborn-learning-center-cahoon-memorial-cabin-open-16/
END:VEVENT
BEGIN:VEVENT
DTSTART;TZID=America/New_York:20250810T140000
DTEND;TZID=America/New_York:20250810T163000
DTSTAMP:20260419T161031
CREATED:20250430T200009Z
LAST-MODIFIED:20250430T200009Z
UID:8495-1754834400-1754843400@www.bayhistorical.com
SUMMARY:Rose Hill museum\, Osborn Learning Center\, Cahoon memorial cabin open
DESCRIPTION:
URL:https://www.bayhistorical.com/event/rose-hill-museum-osborn-learning-center-cahoon-memorial-cabin-open-15/
END:VEVENT
BEGIN:VEVENT
DTSTART;TZID=America/New_York:20250803T140000
DTEND;TZID=America/New_York:20250803T163000
DTSTAMP:20260419T161031
CREATED:20250430T195944Z
LAST-MODIFIED:20250430T195944Z
UID:8493-1754229600-1754238600@www.bayhistorical.com
SUMMARY:Rose Hill museum\, Osborn Learning Center\, Cahoon memorial cabin open
DESCRIPTION:
URL:https://www.bayhistorical.com/event/rose-hill-museum-osborn-learning-center-cahoon-memorial-cabin-open-14/
END:VEVENT
BEGIN:VEVENT
DTSTART;TZID=America/New_York:20250727T140000
DTEND;TZID=America/New_York:20250727T163000
DTSTAMP:20260419T161031
CREATED:20250430T195917Z
LAST-MODIFIED:20250430T195917Z
UID:8491-1753624800-1753633800@www.bayhistorical.com
SUMMARY:Rose Hill museum\, Osborn Learning Center\, Cahoon memorial cabin open
DESCRIPTION:
URL:https://www.bayhistorical.com/event/rose-hill-museum-osborn-learning-center-cahoon-memorial-cabin-open-13/
END:VEVENT
END:VCALENDAR