BEGIN:VCALENDAR
VERSION:2.0
PRODID:-// - ECPv6.15.20//NONSGML v1.0//EN
CALSCALE:GREGORIAN
METHOD:PUBLISH
X-ORIGINAL-URL:https://www.bayhistorical.com
X-WR-CALDESC:Events for 
REFRESH-INTERVAL;VALUE=DURATION:PT1H
X-Robots-Tag:noindex
X-PUBLISHED-TTL:PT1H
BEGIN:VTIMEZONE
TZID:America/New_York
BEGIN:DAYLIGHT
TZOFFSETFROM:-0500
TZOFFSETTO:-0400
TZNAME:EDT
DTSTART:20220313T070000
END:DAYLIGHT
BEGIN:STANDARD
TZOFFSETFROM:-0400
TZOFFSETTO:-0500
TZNAME:EST
DTSTART:20221106T060000
END:STANDARD
BEGIN:DAYLIGHT
TZOFFSETFROM:-0500
TZOFFSETTO:-0400
TZNAME:EDT
DTSTART:20230312T070000
END:DAYLIGHT
BEGIN:STANDARD
TZOFFSETFROM:-0400
TZOFFSETTO:-0500
TZNAME:EST
DTSTART:20231105T060000
END:STANDARD
BEGIN:DAYLIGHT
TZOFFSETFROM:-0500
TZOFFSETTO:-0400
TZNAME:EDT
DTSTART:20240310T070000
END:DAYLIGHT
BEGIN:STANDARD
TZOFFSETFROM:-0400
TZOFFSETTO:-0500
TZNAME:EST
DTSTART:20241103T060000
END:STANDARD
END:VTIMEZONE
BEGIN:VEVENT
DTSTART;VALUE=DATE:20231126
DTEND;VALUE=DATE:20231127
DTSTAMP:20260421T015725
CREATED:20230423T145902Z
LAST-MODIFIED:20230617T143706Z
UID:4974-1700956800-1701043199@www.bayhistorical.com
SUMMARY:Rose Hill Museum\, Osborn Learning Center closed for the holiday
DESCRIPTION:
URL:https://www.bayhistorical.com/event/rose-hill-museum-osborn-learning-center-closed-for-the-holiday-3/
END:VEVENT
BEGIN:VEVENT
DTSTART;TZID=America/New_York:20231119T140000
DTEND;TZID=America/New_York:20231119T163000
DTSTAMP:20260421T015725
CREATED:20230423T145831Z
LAST-MODIFIED:20230617T143714Z
UID:4972-1700402400-1700411400@www.bayhistorical.com
SUMMARY:Rose Hill Museum\, Osborn Learning Center open
DESCRIPTION:
URL:https://www.bayhistorical.com/event/rose-hill-museum-osborn-learning-center-open-58/
END:VEVENT
BEGIN:VEVENT
DTSTART;TZID=America/New_York:20231116T180000
DTEND;TZID=America/New_York:20231116T200000
DTSTAMP:20260421T015725
CREATED:20230926T203135Z
LAST-MODIFIED:20230926T203135Z
UID:6269-1700157600-1700164800@www.bayhistorical.com
SUMMARY:General Membership Meeting
DESCRIPTION:Bay Lodge\, 492 Bradley Road\nSocial 6:00 p.m.\, Potluck 6:30 p.m.\, Program 7:00 p.m.\nBring a dish for 10 to share and full place setting for yourself.\n$10 for non members. RSVP to Holly Tramba\, 440-537-1581 or email htramba@sbcglobal.net by November 9th.
URL:https://www.bayhistorical.com/event/general-membership-meeting/
LOCATION:Bay Lodge\, 492 Bradley Road\, Bay Village\, OH\, 44140\, United States
END:VEVENT
BEGIN:VEVENT
DTSTART;TZID=America/New_York:20231112T140000
DTEND;TZID=America/New_York:20231112T163000
DTSTAMP:20260421T015725
CREATED:20230423T145800Z
LAST-MODIFIED:20230617T143722Z
UID:4970-1699797600-1699806600@www.bayhistorical.com
SUMMARY:Rose Hill Museum\, Osborn Learning Center open
DESCRIPTION:
URL:https://www.bayhistorical.com/event/rose-hill-museum-osborn-learning-center-open-57/
END:VEVENT
BEGIN:VEVENT
DTSTART;TZID=America/New_York:20231105T140000
DTEND;TZID=America/New_York:20231105T163000
DTSTAMP:20260421T015725
CREATED:20230423T145734Z
LAST-MODIFIED:20230617T143730Z
UID:4968-1699192800-1699201800@www.bayhistorical.com
SUMMARY:Rose Hill Museum\, Osborn Learning Center open
DESCRIPTION:
URL:https://www.bayhistorical.com/event/rose-hill-museum-osborn-learning-center-open-56/
END:VEVENT
BEGIN:VEVENT
DTSTART;TZID=America/New_York:20231029T140000
DTEND;TZID=America/New_York:20231029T163000
DTSTAMP:20260421T015725
CREATED:20230423T145703Z
LAST-MODIFIED:20230617T143737Z
UID:4966-1698588000-1698597000@www.bayhistorical.com
SUMMARY:Rose Hill Museum\, Osborn Learning Center open
DESCRIPTION:
URL:https://www.bayhistorical.com/event/rose-hill-museum-osborn-learning-center-open-55/
END:VEVENT
BEGIN:VEVENT
DTSTART;TZID=America/New_York:20231022T140000
DTEND;TZID=America/New_York:20231022T163000
DTSTAMP:20260421T015725
CREATED:20230423T145637Z
LAST-MODIFIED:20230617T143747Z
UID:4964-1697983200-1697992200@www.bayhistorical.com
SUMMARY:Rose Hill Museum\, Osborn Learning Center open
DESCRIPTION:
URL:https://www.bayhistorical.com/event/rose-hill-museum-osborn-learning-center-open-54/
END:VEVENT
BEGIN:VEVENT
DTSTART;TZID=America/New_York:20231015T140000
DTEND;TZID=America/New_York:20231015T163000
DTSTAMP:20260421T015725
CREATED:20230423T145613Z
LAST-MODIFIED:20230617T143754Z
UID:4962-1697378400-1697387400@www.bayhistorical.com
SUMMARY:Rose Hill Museum\, Osborn Learning Center open
DESCRIPTION:
URL:https://www.bayhistorical.com/event/rose-hill-museum-osborn-learning-center-open-53/
END:VEVENT
BEGIN:VEVENT
DTSTART;TZID=America/New_York:20231010T100000
DTEND;TZID=America/New_York:20231010T120000
DTSTAMP:20260421T015725
CREATED:20230426T022038Z
LAST-MODIFIED:20230924T202513Z
UID:5012-1696932000-1696939200@www.bayhistorical.com
SUMMARY:History hike
DESCRIPTION:Led by Stephanie West\, the group will take a three-mile hike to discover Bay Village history.
URL:https://www.bayhistorical.com/event/history-hike/
END:VEVENT
BEGIN:VEVENT
DTSTART;TZID=America/New_York:20231008T140000
DTEND;TZID=America/New_York:20231008T163000
DTSTAMP:20260421T015725
CREATED:20230423T145548Z
LAST-MODIFIED:20230617T143804Z
UID:4960-1696773600-1696782600@www.bayhistorical.com
SUMMARY:Rose Hill Museum\, Osborn Learning Center open
DESCRIPTION:
URL:https://www.bayhistorical.com/event/rose-hill-museum-osborn-learning-center-open-52/
END:VEVENT
BEGIN:VEVENT
DTSTART;TZID=America/New_York:20231001T140000
DTEND;TZID=America/New_York:20231001T163000
DTSTAMP:20260421T015725
CREATED:20230423T145458Z
LAST-MODIFIED:20230617T143811Z
UID:4958-1696168800-1696177800@www.bayhistorical.com
SUMMARY:Rose Hill Museum\, Osborn Learning Center open
DESCRIPTION:
URL:https://www.bayhistorical.com/event/rose-hill-museum-osborn-learning-center-open-51/
END:VEVENT
BEGIN:VEVENT
DTSTART;TZID=America/New_York:20230930T090000
DTEND;TZID=America/New_York:20230930T230000
DTSTAMP:20260421T015725
CREATED:20230426T021858Z
LAST-MODIFIED:20230926T195755Z
UID:5009-1696064400-1696114800@www.bayhistorical.com
SUMMARY:Hike to discover history
DESCRIPTION:Led by Stephanie West\, hikers will depart Reese Park on Clague at 9 a.m. and walk the east end of Lake Road to talk about the history of the area.
URL:https://www.bayhistorical.com/event/hike-to-discover-history/
END:VEVENT
BEGIN:VEVENT
DTSTART;TZID=America/New_York:20230927T183000
DTEND;TZID=America/New_York:20230927T193000
DTSTAMP:20260421T015725
CREATED:20230911T161440Z
LAST-MODIFIED:20230911T161440Z
UID:5937-1695839400-1695843000@www.bayhistorical.com
SUMMARY:Launching of the Wischmeyer pram
DESCRIPTION:The formal launch of the Wischmeyer pram will be held on Wednesday\, September 27\, Henry Wischmeyer’s 151st birthday\, a fitting day to do it. \nWe will launch the boat at Huntington Beach at the far eastern end by Porter Creek. We will convene at 6:30 PM. Guests will have to park up top and walk down to the launch area.  We will have a ceremonial cake and refreshments for our guests.   \nPlease invite any interested parties. We welcome all enthusiasts. \nThis is a weather dependent event. If lake conditions are too rough or there is rain we will have to postpone. We can probably make an assessment 24 hrs. ahead of the launch time.
URL:https://www.bayhistorical.com/event/launching-of-the-wischmeyer-pram/
END:VEVENT
BEGIN:VEVENT
DTSTART;TZID=America/New_York:20230927T183000
DTEND;TZID=America/New_York:20230927T193000
DTSTAMP:20260421T015725
CREATED:20230909T215431Z
LAST-MODIFIED:20230910T040018Z
UID:5929-1695839400-1695843000@www.bayhistorical.com
SUMMARY:Wischmeyer Pram Launch
DESCRIPTION:Formal launch of the Wischmeyer Pram on Wednesday\, September 27. It will be Henry’s 151st birthday. The pram was built using Henry Wischmeyer’s blueprints from the Bay Village Historical Society Collection and will be used in downtown Cleveland.  \nWe will launch the boat at Huntington Beach at the far eastern end by Porter Creek.  The area is commonly used for kayak launches.  We will convene at 6:30 PM.  With sunset around 7:45 PM we want some reasonable light.  Guests will have to park in the usual spot and walk down to the launch / beach area.  We will have a ceremonial cake and refreshments for our guests.  \nWe welcome all enthusiasts. \nThis is a weather dependent event.  If lake conditions are too rough or there is rain we will have to postpone.  We can probably make an assessment 24 hrs. ahead of the launch time.
URL:https://www.bayhistorical.com/event/wischmeyer-pram-launch/
END:VEVENT
BEGIN:VEVENT
DTSTART;TZID=America/New_York:20230924T140000
DTEND;TZID=America/New_York:20230924T163000
DTSTAMP:20260421T015725
CREATED:20230423T145429Z
LAST-MODIFIED:20230617T143820Z
UID:4956-1695564000-1695573000@www.bayhistorical.com
SUMMARY:Rose Hill Museum\, Osborn Learning Center open
DESCRIPTION:
URL:https://www.bayhistorical.com/event/rose-hill-museum-osborn-learning-center-open-50/
END:VEVENT
BEGIN:VEVENT
DTSTART;TZID=America/New_York:20230924T110000
DTEND;TZID=America/New_York:20230924T123000
DTSTAMP:20260421T015725
CREATED:20230423T150749Z
LAST-MODIFIED:20230617T144242Z
UID:4984-1695553200-1695558600@www.bayhistorical.com
SUMMARY:"Silhouettes of Style"
DESCRIPTION:The Bay Village Historical Society will be hosting a luncheon at Lakewood Country Club featuring a fashion show of the clothing from the mid 1800s to early 1900s. \nCalled “Silhouettes of Style\,” this event will also offer mystery bags\, raffle items\, and a silent auction. \nThe event will be co-hosted by Pamela Ebert and Monica Thomas.
URL:https://www.bayhistorical.com/event/silhouettes-of-style/
END:VEVENT
BEGIN:VEVENT
DTSTART;TZID=America/New_York:20230921T090000
DTEND;TZID=America/New_York:20230921T110000
DTSTAMP:20260421T015725
CREATED:20230426T021725Z
LAST-MODIFIED:20230426T021725Z
UID:5007-1695286800-1695294000@www.bayhistorical.com
SUMMARY:Hike to historic homes
DESCRIPTION:Led by Stephanie West\, the group will hike along Lake Road to discuss the history of the area. Depart from Rose Hill museum at 9 a.m.
URL:https://www.bayhistorical.com/event/hike-to-historic-homes/
END:VEVENT
BEGIN:VEVENT
DTSTART;TZID=America/New_York:20230917T140000
DTEND;TZID=America/New_York:20230917T163000
DTSTAMP:20260421T015725
CREATED:20230423T145310Z
LAST-MODIFIED:20230617T143830Z
UID:4954-1694959200-1694968200@www.bayhistorical.com
SUMMARY:Rose Hill Museum\, Osborn Learning Center open
DESCRIPTION:
URL:https://www.bayhistorical.com/event/rose-hill-museum-osborn-learning-center-open-49/
END:VEVENT
BEGIN:VEVENT
DTSTART;TZID=America/New_York:20230910T140000
DTEND;TZID=America/New_York:20230910T163000
DTSTAMP:20260421T015725
CREATED:20230423T145238Z
LAST-MODIFIED:20230617T143840Z
UID:4952-1694354400-1694363400@www.bayhistorical.com
SUMMARY:Rose Hill Museum\, Osborn Learning Center open
DESCRIPTION:
URL:https://www.bayhistorical.com/event/rose-hill-museum-osborn-learning-center-open-48/
END:VEVENT
BEGIN:VEVENT
DTSTART;VALUE=DATE:20230903
DTEND;VALUE=DATE:20230904
DTSTAMP:20260421T015725
CREATED:20230423T145214Z
LAST-MODIFIED:20230617T143853Z
UID:4950-1693699200-1693785599@www.bayhistorical.com
SUMMARY:Rose Hill Museum\, Osborn Learning Center closed for the holiday
DESCRIPTION:
URL:https://www.bayhistorical.com/event/rose-hill-museum-osborn-learning-center-closed-for-the-holiday-2/
END:VEVENT
BEGIN:VEVENT
DTSTART;TZID=America/New_York:20230827T140000
DTEND;TZID=America/New_York:20230827T163000
DTSTAMP:20260421T015725
CREATED:20230423T145143Z
LAST-MODIFIED:20230617T143900Z
UID:4948-1693144800-1693153800@www.bayhistorical.com
SUMMARY:Rose Hill Museum\, Osborn Learning Center open
DESCRIPTION:The artistry and significance of beadwork is on full display at Rose Hill Museum’s latest exhibition\, “Beadwork: The Beauty of Small Things.” \nAlong with its permanent display of artifacts from the history of Bay Village\, the museum will temporarily showcase beaded items from the Bay Village Historical Society’s collections that are not often displayed to the public. The exhibition offers a unique opportunity to explore intricate designs on many aspects of beadwork on both clothing\, personal items and salesman’s samples from years gone by. \nThese stunning works of art showcase the versatility of beadwork and its enduring place in fashion and adornment. Don’t miss your chance to experience\, “Beadwork: The Beauty of Small Things.” Visit Rose Hill Museum to witness the stunning beauty and cultural significance of these small yet powerful objects. Admission is free. Group tours can be arranged.
URL:https://www.bayhistorical.com/event/rose-hill-museum-osborn-learning-center-open-47/
END:VEVENT
BEGIN:VEVENT
DTSTART;TZID=America/New_York:20230820T140000
DTEND;TZID=America/New_York:20230820T163000
DTSTAMP:20260421T015725
CREATED:20230423T145117Z
LAST-MODIFIED:20230617T143907Z
UID:4946-1692540000-1692549000@www.bayhistorical.com
SUMMARY:Rose Hill Museum\, Osborn Learning Center open
DESCRIPTION:The artistry and significance of beadwork is on full display at Rose Hill Museum’s latest exhibition\, “Beadwork: The Beauty of Small Things.” \nAlong with its permanent display of artifacts from the history of Bay Village\, the museum will temporarily showcase beaded items from the Bay Village Historical Society’s collections that are not often displayed to the public. The exhibition offers a unique opportunity to explore intricate designs on many aspects of beadwork on both clothing\, personal items and salesman’s samples from years gone by. \nThese stunning works of art showcase the versatility of beadwork and its enduring place in fashion and adornment. Don’t miss your chance to experience\, “Beadwork: The Beauty of Small Things.” Visit Rose Hill Museum to witness the stunning beauty and cultural significance of these small yet powerful objects. Admission is free. Group tours can be arranged.
URL:https://www.bayhistorical.com/event/rose-hill-museum-osborn-learning-center-open-46/
END:VEVENT
BEGIN:VEVENT
DTSTART;TZID=America/New_York:20230813T140000
DTEND;TZID=America/New_York:20230813T163000
DTSTAMP:20260421T015725
CREATED:20230423T145047Z
LAST-MODIFIED:20230617T143916Z
UID:4944-1691935200-1691944200@www.bayhistorical.com
SUMMARY:Rose Hill Museum\, Osborn Learning Center open
DESCRIPTION:The artistry and significance of beadwork is on full display at Rose Hill Museum’s latest exhibition\, “Beadwork: The Beauty of Small Things.” \nAlong with its permanent display of artifacts from the history of Bay Village\, the museum will temporarily showcase beaded items from the Bay Village Historical Society’s collections that are not often displayed to the public. The exhibition offers a unique opportunity to explore intricate designs on many aspects of beadwork on both clothing\, personal items and salesman’s samples from years gone by. \nThese stunning works of art showcase the versatility of beadwork and its enduring place in fashion and adornment. Don’t miss your chance to experience\, “Beadwork: The Beauty of Small Things.” Visit Rose Hill Museum to witness the stunning beauty and cultural significance of these small yet powerful objects. Admission is free. Group tours can be arranged.
URL:https://www.bayhistorical.com/event/rose-hill-museum-osborn-learning-center-open-45/
END:VEVENT
BEGIN:VEVENT
DTSTART;TZID=America/New_York:20230806T140000
DTEND;TZID=America/New_York:20230806T163000
DTSTAMP:20260421T015725
CREATED:20230423T145021Z
LAST-MODIFIED:20230617T143922Z
UID:4942-1691330400-1691339400@www.bayhistorical.com
SUMMARY:Rose Hill Museum\, Osborn Learning Center open
DESCRIPTION:The artistry and significance of beadwork is on full display at Rose Hill Museum’s latest exhibition\, “Beadwork: The Beauty of Small Things.” \nAlong with its permanent display of artifacts from the history of Bay Village\, the museum will temporarily showcase beaded items from the Bay Village Historical Society’s collections that are not often displayed to the public. The exhibition offers a unique opportunity to explore intricate designs on many aspects of beadwork on both clothing\, personal items and salesman’s samples from years gone by. \nThese stunning works of art showcase the versatility of beadwork and its enduring place in fashion and adornment. Don’t miss your chance to experience\, “Beadwork: The Beauty of Small Things.” Visit Rose Hill Museum to witness the stunning beauty and cultural significance of these small yet powerful objects. Admission is free. Group tours can be arranged.
URL:https://www.bayhistorical.com/event/rose-hill-museum-osborn-learning-center-open-44/
END:VEVENT
BEGIN:VEVENT
DTSTART;TZID=America/New_York:20230806T140000
DTEND;TZID=America/New_York:20230806T160000
DTSTAMP:20260421T015725
CREATED:20230603T200443Z
LAST-MODIFIED:20230607T015420Z
UID:5451-1691330400-1691337600@www.bayhistorical.com
SUMMARY:League of Women Voters celebration
DESCRIPTION:
URL:https://www.bayhistorical.com/event/league-of-women-voters-celebration/
END:VEVENT
BEGIN:VEVENT
DTSTART;TZID=America/New_York:20230730T140000
DTEND;TZID=America/New_York:20230730T163000
DTSTAMP:20260421T015725
CREATED:20230423T144951Z
LAST-MODIFIED:20230617T143931Z
UID:4940-1690725600-1690734600@www.bayhistorical.com
SUMMARY:Rose Hill Museum\, Osborn Learning Center open
DESCRIPTION:The artistry and significance of beadwork is on full display at Rose Hill Museum’s latest exhibition\, “Beadwork: The Beauty of Small Things.” \nAlong with its permanent display of artifacts from the history of Bay Village\, the museum will temporarily showcase beaded items from the Bay Village Historical Society’s collections that are not often displayed to the public. The exhibition offers a unique opportunity to explore intricate designs on many aspects of beadwork on both clothing\, personal items and salesman’s samples from years gone by. \nThese stunning works of art showcase the versatility of beadwork and its enduring place in fashion and adornment. Don’t miss your chance to experience\, “Beadwork: The Beauty of Small Things.” Visit Rose Hill Museum to witness the stunning beauty and cultural significance of these small yet powerful objects. Admission is free. Group tours can be arranged.
URL:https://www.bayhistorical.com/event/rose-hill-museum-osborn-learning-center-open-43/
END:VEVENT
BEGIN:VEVENT
DTSTART;TZID=America/New_York:20230723T140000
DTEND;TZID=America/New_York:20230723T163000
DTSTAMP:20260421T015725
CREATED:20230423T144927Z
LAST-MODIFIED:20230617T143939Z
UID:4938-1690120800-1690129800@www.bayhistorical.com
SUMMARY:Rose Hill Museum\, Osborn Learning Center open
DESCRIPTION:The artistry and significance of beadwork is on full display at Rose Hill Museum’s latest exhibition\, “Beadwork: The Beauty of Small Things.” \nAlong with its permanent display of artifacts from the history of Bay Village\, the museum will temporarily showcase beaded items from the Bay Village Historical Society’s collections that are not often displayed to the public. The exhibition offers a unique opportunity to explore intricate designs on many aspects of beadwork on both clothing\, personal items and salesman’s samples from years gone by. \nThese stunning works of art showcase the versatility of beadwork and its enduring place in fashion and adornment. Don’t miss your chance to experience\, “Beadwork: The Beauty of Small Things.” Visit Rose Hill Museum to witness the stunning beauty and cultural significance of these small yet powerful objects. Admission is free. Group tours can be arranged.
URL:https://www.bayhistorical.com/event/rose-hill-museum-osborn-learning-center-open-42/
END:VEVENT
BEGIN:VEVENT
DTSTART;TZID=America/New_York:20230719T100000
DTEND;TZID=America/New_York:20230719T120000
DTSTAMP:20260421T015725
CREATED:20230426T022719Z
LAST-MODIFIED:20230426T022719Z
UID:5020-1689760800-1689768000@www.bayhistorical.com
SUMMARY:Tour by seniors from Aurora\, Ohio
DESCRIPTION:
URL:https://www.bayhistorical.com/event/tour-by-seniors-from-aurora-ohio/
END:VEVENT
BEGIN:VEVENT
DTSTART;TZID=America/New_York:20230716T140000
DTEND;TZID=America/New_York:20230716T163000
DTSTAMP:20260421T015725
CREATED:20230423T144903Z
LAST-MODIFIED:20230617T143959Z
UID:4936-1689516000-1689525000@www.bayhistorical.com
SUMMARY:Rose Hill Museum\, Osborn Learning Center open
DESCRIPTION:The artistry and significance of beadwork is on full display at Rose Hill Museum’s latest exhibition\, “Beadwork: The Beauty of Small Things.” \nAlong with its permanent display of artifacts from the history of Bay Village\, the museum will temporarily showcase beaded items from the Bay Village Historical Society’s collections that are not often displayed to the public. The exhibition offers a unique opportunity to explore intricate designs on many aspects of beadwork on both clothing\, personal items and salesman’s samples from years gone by. \nThese stunning works of art showcase the versatility of beadwork and its enduring place in fashion and adornment. Don’t miss your chance to experience\, “Beadwork: The Beauty of Small Things.” Visit Rose Hill Museum to witness the stunning beauty and cultural significance of these small yet powerful objects. Admission is free. Group tours can be arranged.
URL:https://www.bayhistorical.com/event/rose-hill-museum-osborn-learning-center-open-41/
END:VEVENT
BEGIN:VEVENT
DTSTART;TZID=America/New_York:20230709T140000
DTEND;TZID=America/New_York:20230709T163000
DTSTAMP:20260421T015725
CREATED:20230423T144837Z
LAST-MODIFIED:20230617T144006Z
UID:4934-1688911200-1688920200@www.bayhistorical.com
SUMMARY:Rose Hill Museum\, Osborn Learning Center open
DESCRIPTION:The artistry and significance of beadwork is on full display at Rose Hill Museum’s latest exhibition\, “Beadwork: The Beauty of Small Things.” \nAlong with its permanent display of artifacts from the history of Bay Village\, the museum will temporarily showcase beaded items from the Bay Village Historical Society’s collections that are not often displayed to the public. The exhibition offers a unique opportunity to explore intricate designs on many aspects of beadwork on both clothing\, personal items and salesman’s samples from years gone by. \nThese stunning works of art showcase the versatility of beadwork and its enduring place in fashion and adornment. Don’t miss your chance to experience\, “Beadwork: The Beauty of Small Things.” Visit Rose Hill Museum to witness the stunning beauty and cultural significance of these small yet powerful objects. Admission is free. Group tours can be arranged.
URL:https://www.bayhistorical.com/event/rose-hill-museum-osborn-learning-center-open-40/
END:VEVENT
END:VCALENDAR