BEGIN:VCALENDAR
VERSION:2.0
PRODID:-// - ECPv6.15.20//NONSGML v1.0//EN
CALSCALE:GREGORIAN
METHOD:PUBLISH
X-ORIGINAL-URL:https://www.bayhistorical.com
X-WR-CALDESC:Events for 
REFRESH-INTERVAL;VALUE=DURATION:PT1H
X-Robots-Tag:noindex
X-PUBLISHED-TTL:PT1H
BEGIN:VTIMEZONE
TZID:America/New_York
BEGIN:DAYLIGHT
TZOFFSETFROM:-0500
TZOFFSETTO:-0400
TZNAME:EDT
DTSTART:20230312T070000
END:DAYLIGHT
BEGIN:STANDARD
TZOFFSETFROM:-0400
TZOFFSETTO:-0500
TZNAME:EST
DTSTART:20231105T060000
END:STANDARD
BEGIN:DAYLIGHT
TZOFFSETFROM:-0500
TZOFFSETTO:-0400
TZNAME:EDT
DTSTART:20240310T070000
END:DAYLIGHT
BEGIN:STANDARD
TZOFFSETFROM:-0400
TZOFFSETTO:-0500
TZNAME:EST
DTSTART:20241103T060000
END:STANDARD
BEGIN:DAYLIGHT
TZOFFSETFROM:-0500
TZOFFSETTO:-0400
TZNAME:EDT
DTSTART:20250309T070000
END:DAYLIGHT
BEGIN:STANDARD
TZOFFSETFROM:-0400
TZOFFSETTO:-0500
TZNAME:EST
DTSTART:20251102T060000
END:STANDARD
END:VTIMEZONE
BEGIN:VEVENT
DTSTART;TZID=America/New_York:20241208T133000
DTEND;TZID=America/New_York:20241208T163000
DTSTAMP:20260422T032948
CREATED:20240426T161144Z
LAST-MODIFIED:20241119T173746Z
UID:8244-1733664600-1733675400@www.bayhistorical.com
SUMMARY:Santa photos\, Rose Hill Museum\, Osborn open
DESCRIPTION:Rose Hill Museum will be beautifully decorated for the holiday season. “The Night Before Christmas” each day. The Bay High Choraleers will sing carols at Rose Hill Dec. 8 at 3 p.m. \nA variety of demonstrations may be viewed each day. \nHave your family (even the dog!) photographed with Mr. and Mrs. Santa Claus and elves aboard our refurbished vintage sleigh on Dec. 11. The cost is $20\, and reservations are recommended to reserve a time. You can pay in advance via PayPal to “info@bayhistorical.com” or by cash or check payable to the Bay Village Historical Society\, collected at the event. Photos will be emailed to you. Refreshments will be available. Sign up on the Santa Claus page of www.bayhistorical.com. Available time slots are filling up fast so do not delay. \nMuseum guides will be dressed in period costumes. The gift shop will be open and stocked with signature Bay Village gifts. Make a visit to Rose Hill Museum and the Bay Village historic district during the Christmas season a part of your holiday tradition.
URL:https://www.bayhistorical.com/event/rose-hill-museum-osborn-learning-center-open-89/
LOCATION:Rose Hill Museum\, 27715 Lake Road\, Bay Village\, OH\, 44140\, United States
END:VEVENT
END:VCALENDAR