BEGIN:VCALENDAR
VERSION:2.0
PRODID:-// - ECPv6.15.20//NONSGML v1.0//EN
CALSCALE:GREGORIAN
METHOD:PUBLISH
X-ORIGINAL-URL:https://www.bayhistorical.com
X-WR-CALDESC:Events for 
REFRESH-INTERVAL;VALUE=DURATION:PT1H
X-Robots-Tag:noindex
X-PUBLISHED-TTL:PT1H
BEGIN:VTIMEZONE
TZID:America/New_York
BEGIN:DAYLIGHT
TZOFFSETFROM:-0500
TZOFFSETTO:-0400
TZNAME:EDT
DTSTART:20230312T070000
END:DAYLIGHT
BEGIN:STANDARD
TZOFFSETFROM:-0400
TZOFFSETTO:-0500
TZNAME:EST
DTSTART:20231105T060000
END:STANDARD
BEGIN:DAYLIGHT
TZOFFSETFROM:-0500
TZOFFSETTO:-0400
TZNAME:EDT
DTSTART:20240310T070000
END:DAYLIGHT
BEGIN:STANDARD
TZOFFSETFROM:-0400
TZOFFSETTO:-0500
TZNAME:EST
DTSTART:20241103T060000
END:STANDARD
BEGIN:DAYLIGHT
TZOFFSETFROM:-0500
TZOFFSETTO:-0400
TZNAME:EDT
DTSTART:20250309T070000
END:DAYLIGHT
BEGIN:STANDARD
TZOFFSETFROM:-0400
TZOFFSETTO:-0500
TZNAME:EST
DTSTART:20251102T060000
END:STANDARD
END:VTIMEZONE
BEGIN:VEVENT
DTSTART;TZID=America/New_York:20241010T100000
DTEND;TZID=America/New_York:20241010T110000
DTSTAMP:20260423T191519
CREATED:20240823T152255Z
LAST-MODIFIED:20240823T152333Z
UID:8305-1728554400-1728558000@www.bayhistorical.com
SUMMARY:History hike
DESCRIPTION:Cleveland Hiking Club members Stephanie West and Monika Rock will lead a history hike of Bay Village from its Dover Township days through the early 1900s\, passing by historic buildings and points of interest. Meet at the Cahoon Memorial Park gazebo.
URL:https://www.bayhistorical.com/event/history-hike-4/
END:VEVENT
BEGIN:VEVENT
DTSTART;TZID=America/New_York:20241010T183000
DTEND;TZID=America/New_York:20241010T193000
DTSTAMP:20260423T191519
CREATED:20240821T161641Z
LAST-MODIFIED:20240821T161641Z
UID:8299-1728585000-1728588600@www.bayhistorical.com
SUMMARY:Quilt presentation at Bay Village branch library
DESCRIPTION:Recreating the Quilt of the Past will be held at the Bay Village Library on Thursday\, Oct. 10 from 6:30 p.m. to 8 p.m. The show will include 19th century quilt reproductions and the stories behind these award-winning quilts.
URL:https://www.bayhistorical.com/event/quilt-presentation-at-bay-village-branch-library/
END:VEVENT
BEGIN:VEVENT
DTSTART;TZID=America/New_York:20241010T183000
DTEND;TZID=America/New_York:20241010T200000
DTSTAMP:20260423T191519
CREATED:20241001T163357Z
LAST-MODIFIED:20241001T163357Z
UID:8315-1728585000-1728590400@www.bayhistorical.com
SUMMARY:“Recreating Quilts of the Past"
DESCRIPTION:“Recreating Quilts of the Past\,” a display of award-winning 19th century quilts and the stories behind them\, will be presented at the Bay Village branch of the Cuyahoga County Public Library on Thur.\, Oct. 10\, 6:30 p.m. to 8 p.m. Quilter Lin McQuiston will be present for this special opportunity to view her reproduction quilts that were originally designed in the 1800s\, with background information provided for each quilt. This is a unique opportunity to view this spectacular collection. Admission is free. Register on the library’s website at www.cuyahogalibrary.org.branches/bay-village.
URL:https://www.bayhistorical.com/event/recreating-quilts-of-the-past/
LOCATION:Bay Village branch of the Cuyahoga County library
END:VEVENT
END:VCALENDAR