BEGIN:VCALENDAR
VERSION:2.0
PRODID:-// - ECPv6.15.20//NONSGML v1.0//EN
CALSCALE:GREGORIAN
METHOD:PUBLISH
X-ORIGINAL-URL:https://www.bayhistorical.com
X-WR-CALDESC:Events for 
REFRESH-INTERVAL;VALUE=DURATION:PT1H
X-Robots-Tag:noindex
X-PUBLISHED-TTL:PT1H
BEGIN:VTIMEZONE
TZID:America/New_York
BEGIN:DAYLIGHT
TZOFFSETFROM:-0500
TZOFFSETTO:-0400
TZNAME:EDT
DTSTART:20230312T070000
END:DAYLIGHT
BEGIN:STANDARD
TZOFFSETFROM:-0400
TZOFFSETTO:-0500
TZNAME:EST
DTSTART:20231105T060000
END:STANDARD
BEGIN:DAYLIGHT
TZOFFSETFROM:-0500
TZOFFSETTO:-0400
TZNAME:EDT
DTSTART:20240310T070000
END:DAYLIGHT
BEGIN:STANDARD
TZOFFSETFROM:-0400
TZOFFSETTO:-0500
TZNAME:EST
DTSTART:20241103T060000
END:STANDARD
BEGIN:DAYLIGHT
TZOFFSETFROM:-0500
TZOFFSETTO:-0400
TZNAME:EDT
DTSTART:20250309T070000
END:DAYLIGHT
BEGIN:STANDARD
TZOFFSETFROM:-0400
TZOFFSETTO:-0500
TZNAME:EST
DTSTART:20251102T060000
END:STANDARD
END:VTIMEZONE
BEGIN:VEVENT
DTSTART;TZID=America/New_York:20240922T113000
DTEND;TZID=America/New_York:20240922T130000
DTSTAMP:20260424T121947
CREATED:20240821T155212Z
LAST-MODIFIED:20240821T155212Z
UID:8295-1727004600-1727010000@www.bayhistorical.com
SUMMARY:Bay Village Historical Society presents “Silhouettes of Style”
DESCRIPTION:“Silhouettes of Style\,” a fashion show of clothing styles from the 1930s\, 1940s and 1950s and a fall luncheon\, will take place at Avon Oaks Country Club on Sunday\, Sept. 22 at 11:30 a.m. Proceeds will benefit the Bay Village Historical Society. “This is a once-in-a-lifetime opportunity to see this collection\,” historical society member Dr. Marie Albano noted. “The clothing is from personal collections and not from the museum. Some items have never been displayed before. The show includes complete outfits with hats\, gloves\, bags and jewelry. There will also be large table displays.” The eight models will be modeling 16 outfits. Albano said the show will feature Depression era fashion\, clothing worn over the war years and outfits that reflect Hollywood glamour during its heyday. There will be trivia reflective of the time\, she said. Guests are welcome to take photos of the displays and there will be a photo opportunity with the models in their outfits at the conclusion of the show. The event includes a silent auction\, mystery bags and raffle items. Tickets are $50. A cash bar will be available. Co-chairs are Pamela Ebert and Monica Thomas. Deadline for reservations is Sept. 5. Send your reservation with a check made payable to the Bay Village Historical Society to Pamela Ebert\, 153 Kensington Cr.\, Bay Village\, OH 44140. If you are part of a table of eight or 10 guests\, please indicate at which table you will be seated.
URL:https://www.bayhistorical.com/event/bay-village-historical-society-presents-silhouettes-of-style/
LOCATION:Avon Oaks Country Club\, 32300 Detroit Rd.\, Avon\, OH\, United States
END:VEVENT
BEGIN:VEVENT
DTSTART;TZID=America/New_York:20240922T140000
DTEND;TZID=America/New_York:20240922T163000
DTSTAMP:20260424T121947
CREATED:20240426T155037Z
LAST-MODIFIED:20240821T155353Z
UID:8217-1727013600-1727022600@www.bayhistorical.com
SUMMARY:Rose Hill Museum\, Osborn Learning Center closed for luncheon
DESCRIPTION:
URL:https://www.bayhistorical.com/event/rose-hill-museum-osborn-learning-center-open-80/
END:VEVENT
END:VCALENDAR