BEGIN:VCALENDAR
VERSION:2.0
PRODID:-// - ECPv6.15.20//NONSGML v1.0//EN
CALSCALE:GREGORIAN
METHOD:PUBLISH
X-ORIGINAL-URL:https://www.bayhistorical.com
X-WR-CALDESC:Events for 
REFRESH-INTERVAL;VALUE=DURATION:PT1H
X-Robots-Tag:noindex
X-PUBLISHED-TTL:PT1H
BEGIN:VTIMEZONE
TZID:America/New_York
BEGIN:DAYLIGHT
TZOFFSETFROM:-0500
TZOFFSETTO:-0400
TZNAME:EDT
DTSTART:20220313T070000
END:DAYLIGHT
BEGIN:STANDARD
TZOFFSETFROM:-0400
TZOFFSETTO:-0500
TZNAME:EST
DTSTART:20221106T060000
END:STANDARD
BEGIN:DAYLIGHT
TZOFFSETFROM:-0500
TZOFFSETTO:-0400
TZNAME:EDT
DTSTART:20230312T070000
END:DAYLIGHT
BEGIN:STANDARD
TZOFFSETFROM:-0400
TZOFFSETTO:-0500
TZNAME:EST
DTSTART:20231105T060000
END:STANDARD
BEGIN:DAYLIGHT
TZOFFSETFROM:-0500
TZOFFSETTO:-0400
TZNAME:EDT
DTSTART:20240310T070000
END:DAYLIGHT
BEGIN:STANDARD
TZOFFSETFROM:-0400
TZOFFSETTO:-0500
TZNAME:EST
DTSTART:20241103T060000
END:STANDARD
END:VTIMEZONE
BEGIN:VEVENT
DTSTART;TZID=America/New_York:20230927T183000
DTEND;TZID=America/New_York:20230927T193000
DTSTAMP:20260420T151949
CREATED:20230909T215431Z
LAST-MODIFIED:20230910T040018Z
UID:5929-1695839400-1695843000@www.bayhistorical.com
SUMMARY:Wischmeyer Pram Launch
DESCRIPTION:Formal launch of the Wischmeyer Pram on Wednesday\, September 27. It will be Henry’s 151st birthday. The pram was built using Henry Wischmeyer’s blueprints from the Bay Village Historical Society Collection and will be used in downtown Cleveland.  \nWe will launch the boat at Huntington Beach at the far eastern end by Porter Creek.  The area is commonly used for kayak launches.  We will convene at 6:30 PM.  With sunset around 7:45 PM we want some reasonable light.  Guests will have to park in the usual spot and walk down to the launch / beach area.  We will have a ceremonial cake and refreshments for our guests.  \nWe welcome all enthusiasts. \nThis is a weather dependent event.  If lake conditions are too rough or there is rain we will have to postpone.  We can probably make an assessment 24 hrs. ahead of the launch time.
URL:https://www.bayhistorical.com/event/wischmeyer-pram-launch/
END:VEVENT
BEGIN:VEVENT
DTSTART;TZID=America/New_York:20230927T183000
DTEND;TZID=America/New_York:20230927T193000
DTSTAMP:20260420T151949
CREATED:20230911T161440Z
LAST-MODIFIED:20230911T161440Z
UID:5937-1695839400-1695843000@www.bayhistorical.com
SUMMARY:Launching of the Wischmeyer pram
DESCRIPTION:The formal launch of the Wischmeyer pram will be held on Wednesday\, September 27\, Henry Wischmeyer’s 151st birthday\, a fitting day to do it. \nWe will launch the boat at Huntington Beach at the far eastern end by Porter Creek. We will convene at 6:30 PM. Guests will have to park up top and walk down to the launch area.  We will have a ceremonial cake and refreshments for our guests.   \nPlease invite any interested parties. We welcome all enthusiasts. \nThis is a weather dependent event. If lake conditions are too rough or there is rain we will have to postpone. We can probably make an assessment 24 hrs. ahead of the launch time.
URL:https://www.bayhistorical.com/event/launching-of-the-wischmeyer-pram/
END:VEVENT
END:VCALENDAR